BEGIN:VCALENDAR
VERSION:2.0
PRODID:-//ChamberMaster//Event Calendar 2.0//EN
METHOD:PUBLISH
X-PUBLISHED-TTL:P3D
REFRESH-INTERVAL:P3D
CALSCALE:GREGORIAN
BEGIN:VEVENT
DTSTART:20151014T003000Z
DTEND:20151013T070000Z
X-MICROSOFT-CDO-ALLDAYEVENT:FALSE
SUMMARY:Council Meeting (regular)
DESCRIPTION:
X-ALT-DESC;FMTTYPE=text/html:
LOCATION:Chambers\, Basement Level Tenth Street Place 1010 10th Street Modesto\, CA 95354
UID:e.2695.300
SEQUENCE:3
DTSTAMP:20260419T230400Z
URL:https://business.modchamber.org/events/details/council-meeting-regular-10-13-2015-300
END:VEVENT

END:VCALENDAR
