BEGIN:VCALENDAR
VERSION:2.0
PRODID:-//ChamberMaster//Event Calendar 2.0//EN
METHOD:PUBLISH
X-PUBLISHED-TTL:P3D
REFRESH-INTERVAL:P3D
CALSCALE:GREGORIAN
BEGIN:VEVENT
DTSTART:20160513T003000Z
DTEND:20160513T033000Z
X-MICROSOFT-CDO-ALLDAYEVENT:FALSE
SUMMARY:Corks & Forks-Howard Training Center
DESCRIPTION:There will be a silent auction\, raffle drawings & door prizes!\n\nEnjoy fine wine tasting from various wineries & fantastic hors d'oeuvres.\n\n$40.00 pre-sale tickets only.\n\nProceeds from this event help strengthen the programs offered by Howard Training Center.\n\nContact : 	Geri Lewis\nPhone : 	209-593-5618\nEmail : 	\nWeb Site :
X-ALT-DESC;FMTTYPE=text/html:There will be a silent auction\, raffle drawings & door prizes!\n\nEnjoy fine wine tasting from various wineries & fantastic hors d'oeuvres.\n\n$40.00 pre-sale tickets only.\n\nProceeds from this event help strengthen the programs offered by Howard Training Center.\n\nContact : 	Geri Lewis\nPhone : 	209-593-5618\nEmail : 	\nWeb Site : 	\n\n
LOCATION:Howard Training Center 1424 Stonum Road Modesto\, CA 95351
UID:e.2695.1639
SEQUENCE:3
DTSTAMP:20260419T124713Z
URL:https://business.modchamber.org/events/details/corks-forks-howard-training-center-05-12-2016-1639
END:VEVENT

END:VCALENDAR
