BEGIN:VCALENDAR
VERSION:2.0
PRODID:-//ChamberMaster//Event Calendar 2.0//EN
METHOD:PUBLISH
X-PUBLISHED-TTL:P3D
REFRESH-INTERVAL:P3D
CALSCALE:GREGORIAN
BEGIN:VEVENT
DTSTART:20150409T143000Z
DTEND:20150410T003000Z
X-MICROSOFT-CDO-ALLDAYEVENT:FALSE
SUMMARY:Connecting for Good Confrence
DESCRIPTION:Community change happens at the individual\, organizational and systemic level. Connecting for Good is a day-long conference that focuses on all levers of change in Stanislaus County.\n\nNew tools and new ways of thinking are emerging - bold\, dynamic and unpredictable approaches that strengthen the capacity to adapt to and even embrace transformation.\n\nCan Stanislaus County be a [lace where dynamic thinking - and doing - is the norm\, not the exception? Join them as they learn practitioners on the topics of individual\, organizational and community change.\nContact : 	\nPhone : 	\nEmail : 	\nWeb Site : 	www.stanislausCF.org
X-ALT-DESC;FMTTYPE=text/html:	Community change happens at the individual\, organizational and systemic level. Connecting for Good is a day-long conference that focuses on all levers of change in Stanislaus County.\n\nNew tools and new ways of thinking are emerging - bold\, dynamic and unpredictable approaches that strengthen the capacity to adapt to and even embrace transformation.\n\nCan Stanislaus County be a [lace where dynamic thinking - and doing - is the norm\, not the exception? Join them as they learn practitioners on the topics of individual\, organizational and community change.\nContact : 	\nPhone : 	\nEmail : 	\nWeb Site : 	www.stanislausCF.org
LOCATION:Martin G. Peterson Event Center 720 12th ST Modesto\, CA 95354
UID:e.2695.851
SEQUENCE:3
DTSTAMP:20260420T073646Z
URL:https://business.modchamber.org/events/details/connecting-for-good-confrence-04-09-2015-851
END:VEVENT

END:VCALENDAR
