BEGIN:VCALENDAR
VERSION:2.0
PRODID:-//ChamberMaster//Event Calendar 2.0//EN
METHOD:PUBLISH
X-PUBLISHED-TTL:P3D
REFRESH-INTERVAL:P3D
CALSCALE:GREGORIAN
BEGIN:VEVENT
DTSTART:20150503T000000Z
DTEND:20150502T070000Z
X-MICROSOFT-CDO-ALLDAYEVENT:FALSE
SUMMARY:Community Hospice Foundation Gala
DESCRIPTION:Community Hospice Foundation presents their annual gala\, Kentucky Derby\, at the home Dr. and Mrs. Darius and Carla Naraghi. The event features live music\, dinner\, hosted bar and dancing. All proceeds will benefit the patients and families of Community Hospice. \n\nTo reserve tickets or for more information please contact Community Hospice Foundation at (209) 578-6370 or visit www.hospiceheart.org/events. Tickets for the gala are $150 per person. Sponsorship opportunities available.\nContact :	Community Hospice Foundation\nPhone :	(209) 578-6370\nEmail :	\nWeb Site :	www.hospiceheart.org/events
X-ALT-DESC;FMTTYPE=text/html:	Community Hospice Foundation presents their annual gala\, Kentucky Derby\, at the home Dr. and Mrs. Darius and Carla Naraghi. The event features live music\, dinner\, hosted bar and dancing. All proceeds will benefit the patients and families of Community Hospice. \n\nTo reserve tickets or for more information please contact Community Hospice Foundation at (209) 578-6370 or visit www.hospiceheart.org/events. Tickets for the gala are $150 per person. Sponsorship opportunities available.\nContact :	Community Hospice Foundation\nPhone :	(209) 578-6370\nEmail :	\nWeb Site :	www.hospiceheart.org/events
LOCATION:
UID:e.2695.909
SEQUENCE:3
DTSTAMP:20260420T061555Z
URL:https://business.modchamber.org/events/details/community-hospice-foundation-gala-05-02-2015-909
END:VEVENT

END:VCALENDAR
