BEGIN:VCALENDAR
VERSION:2.0
PRODID:-//ChamberMaster//Event Calendar 2.0//EN
METHOD:PUBLISH
X-PUBLISHED-TTL:P3D
REFRESH-INTERVAL:P3D
CALSCALE:GREGORIAN
BEGIN:VEVENT
DTSTART:20160131T023000Z
DTEND:20160130T080000Z
X-MICROSOFT-CDO-ALLDAYEVENT:FALSE
SUMMARY:COMMEMORATIVE AIRFORCE CRABFEED & FUNDRAISER
DESCRIPTION:Modesto City/County Airport\n$45 per person - doors open 5 pm\, dinner 6:30 pm\nNo Host bar\, Silent & Oral Auction\, 50/50 Raffle\nand that KRAZY KARD GAME.\nCall 209-605-4313 for tickets. Advance purchase only\nTickets not sold at door.\nContact :	\nPhone :	209-605-4313\nEmail :	\nWeb Site :
X-ALT-DESC;FMTTYPE=text/html:Modesto City/County Airport\n$45 per person - doors open 5 pm\, dinner 6:30 pm\nNo Host bar\, Silent & Oral Auction\, 50/50 Raffle\nand that KRAZY KARD GAME.\nCall 209-605-4313 for tickets. Advance purchase only\nTickets not sold at door.\nContact :	\nPhone :	209-605-4313\nEmail :	\nWeb Site :	
LOCATION:CAF/CENTRAL CA. VALLEY SQUADRON 700 Tioga Drive\, Hangar 1-S Modesto\, CA 95351
UID:e.2695.1353
SEQUENCE:3
DTSTAMP:20260419T174635Z
URL:https://business.modchamber.org/events/details/commemorative-airforce-crabfeed-fundraiser-01-30-2016-1353
END:VEVENT

END:VCALENDAR
