BEGIN:VCALENDAR
VERSION:2.0
PRODID:-//ChamberMaster//Event Calendar 2.0//EN
METHOD:PUBLISH
X-PUBLISHED-TTL:P3D
REFRESH-INTERVAL:P3D
CALSCALE:GREGORIAN
BEGIN:VEVENT
DTSTART:20150606T030000Z
DTEND:20150605T070000Z
X-MICROSOFT-CDO-ALLDAYEVENT:FALSE
SUMMARY:Comedy Meets the Symphony
DESCRIPTION:Hilmar Cheese Company Pops Series\n\nComedy Meets the Symphony Orchestra\n\nRainer Hersch\, conductor & comedian\n\n\nProgram\nJoin us for a witty night of comedy\, music and mayhem featuring British stand-up comedian and conductor Rainer Hersch. The show combines Hersch’s skills as a comedian\, his virtuosity as a pianist and his fanaticism for the world’s most beautiful music. Whether you are a music expert or cannot tell a string quartet from a string vest\, this concert will have you laughing all night long!\n\nThe evening will include pieces such as:\nRossini: William Tell Overture\nBeethoven: Choral Symphony\nVivaldi: Four Seasons\nOrff: Carmina Burana\nStrauss: The Blue Danube\n...but not as you know it.\nContact :	Gallo Center\nPhone :	209-338-2100\nEmail :	\nWeb Site :	galloarts.org
X-ALT-DESC;FMTTYPE=text/html:	Hilmar Cheese Company Pops Series\n\nComedy Meets the Symphony Orchestra\n\nRainer Hersch\, conductor & comedian\n\n\nProgram\nJoin us for a witty night of comedy\, music and mayhem featuring British stand-up comedian and conductor Rainer Hersch. The show combines Hersch’s skills as a comedian\, his virtuosity as a pianist and his fanaticism for the world’s most beautiful music. Whether you are a music expert or cannot tell a string quartet from a string vest\, this concert will have you laughing all night long!\n\nThe evening will include pieces such as:\nRossini: William Tell Overture\nBeethoven: Choral Symphony\nVivaldi: Four Seasons\nOrff: Carmina Burana\nStrauss: The Blue Danube\n...but not as you know it.\nContact :	Gallo Center\nPhone :	209-338-2100\nEmail :	\nWeb Site :	galloarts.org
LOCATION:Gallo Center 1000 I St Modesto\, CA 95354
UID:e.2695.981
SEQUENCE:3
DTSTAMP:20260420T032430Z
URL:https://business.modchamber.org/events/details/comedy-meets-the-symphony-06-05-2015-981
END:VEVENT

END:VCALENDAR
