BEGIN:VCALENDAR
VERSION:2.0
PRODID:-//ChamberMaster//Event Calendar 2.0//EN
METHOD:PUBLISH
X-PUBLISHED-TTL:P3D
REFRESH-INTERVAL:P3D
CALSCALE:GREGORIAN
BEGIN:VEVENT
DTSTART:20160320T220000Z
DTEND:20160321T000000Z
X-MICROSOFT-CDO-ALLDAYEVENT:FALSE
SUMMARY:Columbia Kicks Big Band
DESCRIPTION:Columbia Kicks\, led by sax player Rod Harris\, brings their world class musicians to Modesto from Columbia College.  Their list of hits from the Big Band era as well as Dixieland classics\, Latin jazz\,Salsa and Disco will keep the audience toe tapping from start to end.
X-ALT-DESC;FMTTYPE=text/html:Columbia Kicks\, led by sax player Rod Harris\, brings their world class musicians to Modesto from Columbia College.  Their list of hits from the Big Band era as well as Dixieland classics\, Latin jazz\,Salsa and Disco will keep the audience toe tapping from start to end.
LOCATION:Gallo Center for the Arts 1000 I Street Modesto\, CA 95351
UID:e.2695.1147
SEQUENCE:3
DTSTAMP:20260419T154258Z
URL:https://business.modchamber.org/events/details/columbia-kicks-big-band-03-20-2016-1147
END:VEVENT

END:VCALENDAR
