BEGIN:VCALENDAR
VERSION:2.0
PRODID:-//ChamberMaster//Event Calendar 2.0//EN
METHOD:PUBLISH
X-PUBLISHED-TTL:P3D
REFRESH-INTERVAL:P3D
CALSCALE:GREGORIAN
BEGIN:VEVENT
DTSTART:20101014T143000Z
DTEND:20101014T153000Z
X-MICROSOFT-CDO-ALLDAYEVENT:FALSE
SUMMARY:Coffee Hour 10-14-2010
DESCRIPTION:
X-ALT-DESC;FMTTYPE=text/html:
LOCATION:Modesto Fitness & Racquet
UID:e.2695.149
SEQUENCE:3
DTSTAMP:20260421T194034Z
URL:https://business.modchamber.org/events/details/coffee-hour-10-14-2010-10-14-2010-149
END:VEVENT

END:VCALENDAR
