BEGIN:VCALENDAR
VERSION:2.0
PRODID:-//ChamberMaster//Event Calendar 2.0//EN
METHOD:PUBLISH
X-PUBLISHED-TTL:P3D
REFRESH-INTERVAL:P3D
CALSCALE:GREGORIAN
BEGIN:VEVENT
DTSTART:20100513T143000Z
DTEND:20100513T153000Z
X-MICROSOFT-CDO-ALLDAYEVENT:FALSE
SUMMARY:Coffee Hour 05-13-2010
DESCRIPTION:
X-ALT-DESC;FMTTYPE=text/html:
LOCATION:Modesto Fitness & Racquet
UID:e.2695.144
SEQUENCE:3
DTSTAMP:20260424T035201Z
URL:https://business.modchamber.org/events/details/coffee-hour-05-13-2010-05-13-2010-144
END:VEVENT

END:VCALENDAR
