BEGIN:VCALENDAR
VERSION:2.0
PRODID:-//ChamberMaster//Event Calendar 2.0//EN
METHOD:PUBLISH
X-PUBLISHED-TTL:P3D
REFRESH-INTERVAL:P3D
CALSCALE:GREGORIAN
BEGIN:VEVENT
DTSTART:20100408T143000Z
DTEND:20100408T153000Z
X-MICROSOFT-CDO-ALLDAYEVENT:FALSE
SUMMARY:Coffee Hour 04-08-2010
DESCRIPTION:
X-ALT-DESC;FMTTYPE=text/html:
LOCATION:Modesto Fitness & Racquet
UID:e.2695.143
SEQUENCE:3
DTSTAMP:20260425T162816Z
URL:https://business.modchamber.org/events/details/coffee-hour-04-08-2010-04-08-2010-143
END:VEVENT

END:VCALENDAR
