BEGIN:VCALENDAR
VERSION:2.0
PRODID:-//ChamberMaster//Event Calendar 2.0//EN
METHOD:PUBLISH
X-PUBLISHED-TTL:P3D
REFRESH-INTERVAL:P3D
CALSCALE:GREGORIAN
BEGIN:VEVENT
DTSTART:20160313T210000Z
DTEND:20160313T080000Z
X-MICROSOFT-CDO-ALLDAYEVENT:FALSE
SUMMARY:CLIFFORD THE BIG RED DOG LIVE
DESCRIPTION:The ‘big red dog\,’ a character beloved for generations\, comes to life on stage in a BIG way in this all-new musical! Join Clifford\, Emily Elizabeth and all their friends from Birdwell Island as they embark on fun-filled adventures with singing\, dancing and interactive fun. Share in the timeless values of Clifford’s BIG Ideas: Share\, Play Fair\, Have Respect\, Work Together\, Be Responsible\, Be Truthful\, Be Kind\, Believe In Yourself\, Be A Good Friend and Help Others . It's a musical experience for the whole family!\nContact :	Gallo Center\nPhone :	209-338-2100\nEmail :	\nWeb Site :	galloarts.org
X-ALT-DESC;FMTTYPE=text/html:The ‘big red dog\,’ a character beloved for generations\, comes to life on stage in a BIG way in this all-new musical! Join Clifford\, Emily Elizabeth and all their friends from Birdwell Island as they embark on fun-filled adventures with singing\, dancing and interactive fun. Share in the timeless values of Clifford’s BIG Ideas: Share\, Play Fair\, Have Respect\, Work Together\, Be Responsible\, Be Truthful\, Be Kind\, Believe In Yourself\, Be A Good Friend and Help Others . It's a musical experience for the whole family!\nContact :	Gallo Center\nPhone :	209-338-2100\nEmail :	\nWeb Site :	galloarts.org
LOCATION:Gallo Center 1000 I Street Modesto\, CA 95354
UID:e.2695.1464
SEQUENCE:3
DTSTAMP:20260419T154440Z
URL:https://business.modchamber.org/events/details/clifford-the-big-red-dog-live-03-13-2016-1464
END:VEVENT

END:VCALENDAR
