BEGIN:VCALENDAR
VERSION:2.0
PRODID:-//ChamberMaster//Event Calendar 2.0//EN
METHOD:PUBLISH
X-PUBLISHED-TTL:P3D
REFRESH-INTERVAL:P3D
CALSCALE:GREGORIAN
BEGIN:VEVENT
DTSTART:20150523T030000Z
DTEND:20150522T070000Z
X-MICROSOFT-CDO-ALLDAYEVENT:FALSE
SUMMARY:Clay Walker
DESCRIPTION:Multi-platinum country music artist Clay Walker\, a man who knows something about second chances\, is headed for the Gallo Center! The Texas native made his mark on the country scene with his debut album in 1993 that included the smash hit “What’s It To You.” Three years later\, after a string of number one hits\, he was diagnosed with Multiple Sclerosis. Not letting that set him back\, Clay has continued touring and recording steadily since the diagnosis and is well-known for his high-energy concerts and performance style. He’s also raised $2 million in support of the MS cause.
X-ALT-DESC;FMTTYPE=text/html:Multi-platinum country music artist Clay Walker\, a man who knows something about second chances\, is headed for the Gallo Center! The Texas native made his mark on the country scene with his debut album in 1993 that included the smash hit “What’s It To You.” Three years later\, after a string of number one hits\, he was diagnosed with Multiple Sclerosis. Not letting that set him back\, Clay has continued touring and recording steadily since the diagnosis and is well-known for his high-energy concerts and performance style. He’s also raised $2 million in support of the MS cause.
LOCATION:Gallo Center For The Arts 1000 I St Modesto\, CA 95354
UID:e.2695.960
SEQUENCE:3
DTSTAMP:20260420T045218Z
URL:https://business.modchamber.org/events/details/clay-walker-05-22-2015-960
END:VEVENT

END:VCALENDAR
