BEGIN:VCALENDAR
VERSION:2.0
PRODID:-//ChamberMaster//Event Calendar 2.0//EN
METHOD:PUBLISH
X-PUBLISHED-TTL:P3D
REFRESH-INTERVAL:P3D
CALSCALE:GREGORIAN
BEGIN:VEVENT
DTSTART:20151002T023000Z
DTEND:20151001T070000Z
X-MICROSOFT-CDO-ALLDAYEVENT:FALSE
SUMMARY:CLARA BARTON
DESCRIPTION:Susan Marie Frontczak as\nCLARA BARTON\n\nIn her previous appearances at the Center\, the ever popular storyteller\, actress and scholar Susan Marie Frontczak has portrayed Madame Marie Curie as well as First Lady Eleanor Roosevelt at different stages of her life. Now she returns as Clara Barton\, angel of the Civil War battlefield and the 23-year founder and president of the American Red Cross. She called the American Red Cross her "child\," a delivery requiring years of labor to accomplish. As always\, Susan concludes her performance with a Q&A in character as Barton\, and then as herself.\nContact :	Gallo Center\nPhone :	209-338-2100\nEmail :	\nWeb Site :	galloarts.org
X-ALT-DESC;FMTTYPE=text/html:Susan Marie Frontczak as\nCLARA BARTON\n\nIn her previous appearances at the Center\, the ever popular storyteller\, actress and scholar Susan Marie Frontczak has portrayed Madame Marie Curie as well as First Lady Eleanor Roosevelt at different stages of her life. Now she returns as Clara Barton\, angel of the Civil War battlefield and the 23-year founder and president of the American Red Cross. She called the American Red Cross her "child\," a delivery requiring years of labor to accomplish. As always\, Susan concludes her performance with a Q&A in character as Barton\, and then as herself.\nContact :	Gallo Center\nPhone :	209-338-2100\nEmail :	\nWeb Site :	galloarts.org
LOCATION:Gallo Center 1000 I St Modesto\, CA 95354
UID:e.2695.1206
SEQUENCE:3
DTSTAMP:20260419T214129Z
URL:https://business.modchamber.org/events/details/clara-barton-10-01-2015-1206
END:VEVENT

END:VCALENDAR
