BEGIN:VCALENDAR
VERSION:2.0
PRODID:-//ChamberMaster//Event Calendar 2.0//EN
METHOD:PUBLISH
X-PUBLISHED-TTL:P3D
REFRESH-INTERVAL:P3D
CALSCALE:GREGORIAN
BEGIN:VEVENT
DTSTART:20150315T210000Z
DTEND:20150315T070000Z
X-MICROSOFT-CDO-ALLDAYEVENT:FALSE
SUMMARY:Cinema Toast
DESCRIPTION:Featuring Scott Coulter\, Jessica Hendy & John Boswell\nHooray for Hollywood! ”That screwy\, ballyhooey Hollywood” has thrilled audiences for a hundred years with that favorite of pastimes: THE MOVIES! A trio of New York’s top vocalists—Scott Coulter\, Jessica Hendy and John Boswell—salute “Breakfast at Tiffany’s\,” “The Way We Were\,” “Titanic\,” “The Graduate\,” “The Wizard of Oz” and many more classic films with unforgettable music! Come celebrate the greatest musical memories from the Silver Screen and take a trip “Over the Rainbow” on “Moon River” back to “The Way We Were.” \nContact :	Gallo Center\nPhone :	209-338-2100\nEmail :	\nWeb Site :	galloarts.org
X-ALT-DESC;FMTTYPE=text/html:\n Featuring Scott Coulter\, Jessica Hendy & John Boswell\nHooray for Hollywood! ”That screwy\, ballyhooey Hollywood” has thrilled audiences for a hundred years with that favorite of pastimes: THE MOVIES! A trio of New York’s top vocalists—Scott Coulter\, Jessica Hendy and John Boswell—salute “Breakfast at Tiffany’s\,” “The Way We Were\,” “Titanic\,” “The Graduate\,” “The Wizard of Oz” and many more classic films with unforgettable music! Come celebrate the greatest musical memories from the Silver Screen and take a trip “Over the Rainbow” on “Moon River” back to “The Way We Were.” \nContact :	Gallo Center\nPhone :	209-338-2100\nEmail :	\nWeb Site :	galloarts.org
LOCATION:Gallo Center 1000 I Street Modesto\, CA 95354
UID:e.2695.798
SEQUENCE:3
DTSTAMP:20260420T074044Z
URL:https://business.modchamber.org/events/details/cinema-toast-03-15-2015-798
END:VEVENT

END:VCALENDAR
