BEGIN:VCALENDAR
VERSION:2.0
PRODID:-//ChamberMaster//Event Calendar 2.0//EN
METHOD:PUBLISH
X-PUBLISHED-TTL:P3D
REFRESH-INTERVAL:P3D
CALSCALE:GREGORIAN
BEGIN:VEVENT
DTSTART:20150320T020000Z
DTEND:20150319T070000Z
X-MICROSOFT-CDO-ALLDAYEVENT:FALSE
SUMMARY:Cinderella
DESCRIPTION:Davis Drama Proudly Presents \nCinderella\n\nCinderella goes totally 1980’s in this adaptation of the classic Perrault story. Your favorite 80’s characters\, movies\, and songs all play a part in this adaptation that proves that a pair of shoes really can change your life!\nContact :	Gallo Center\nPhone :	209-338-2100\nEmail :	\nWeb Site :	galloarts.org
X-ALT-DESC;FMTTYPE=text/html:	Davis Drama Proudly Presents \nCinderella\n\nCinderella goes totally 1980’s in this adaptation of the classic Perrault story. Your favorite 80’s characters\, movies\, and songs all play a part in this adaptation that proves that a pair of shoes really can change your life!\nContact :	Gallo Center\nPhone :	209-338-2100\nEmail :	\nWeb Site :	galloarts.org
LOCATION:Gallo Center 1000 I Street Modesto\, CA 95354
UID:e.2695.802
SEQUENCE:3
DTSTAMP:20260420T073438Z
URL:https://business.modchamber.org/events/details/cinderella-03-19-2015-802
END:VEVENT

END:VCALENDAR
