BEGIN:VCALENDAR
VERSION:2.0
PRODID:-//ChamberMaster//Event Calendar 2.0//EN
METHOD:PUBLISH
X-PUBLISHED-TTL:P3D
REFRESH-INTERVAL:P3D
CALSCALE:GREGORIAN
BEGIN:VEVENT
DTSTART:20160507T180000Z
DTEND:20160507T200000Z
X-MICROSOFT-CDO-ALLDAYEVENT:FALSE
SUMMARY:Cinco De Mayo Parade
DESCRIPTION:Crows Landing Road from Olivero Road to Glenn Avenue. Floats featuring local businesses\, youth groups\, horses and more. 11:00am – 1:00pm 604-4167\nContact : 	\nPhone : 	209-604-4167\nEmail : 	\nWeb Site :
X-ALT-DESC;FMTTYPE=text/html:Crows Landing Road from Olivero Road to Glenn Avenue. Floats featuring local businesses\, youth groups\, horses and more. 11:00am – 1:00pm 604-4167\nContact : 	\nPhone : 	209-604-4167\nEmail : 	\nWeb Site :
LOCATION:Crows Landing Road
UID:e.2695.1692
SEQUENCE:3
DTSTAMP:20260419T124707Z
URL:https://business.modchamber.org/events/details/cinco-de-mayo-parade-05-07-2016-1692
END:VEVENT

END:VCALENDAR
