BEGIN:VCALENDAR
VERSION:2.0
PRODID:-//ChamberMaster//Event Calendar 2.0//EN
METHOD:PUBLISH
X-PUBLISHED-TTL:P3D
REFRESH-INTERVAL:P3D
CALSCALE:GREGORIAN
BEGIN:VEVENT
DTSTART:20160506T003000Z
DTEND:20160506T040000Z
X-MICROSOFT-CDO-ALLDAYEVENT:FALSE
SUMMARY:Cinco De Mayo Fiesta
DESCRIPTION:FREE admission\nDJ Mario Mireles\nAppetizers\nImpala Car Show\nBallet Folklorico Los Falcones de Fairview School\nNo Host Bar\nDrawings\nContact : 	Maggie Mejia\nPhone : 	209-303-2664\nEmail : 	maggiemejialcr@gmail.com\nWeb Site :
X-ALT-DESC;FMTTYPE=text/html:FREE admission\nDJ Mario Mireles\nAppetizers\nImpala Car Show\nBallet Folklorico Los Falcones de Fairview School\nNo Host Bar\nDrawings\nContact : 	Maggie Mejia\nPhone : 	209-303-2664\nEmail : 	maggiemejialcr@gmail.com\nWeb Site :
LOCATION:Red Event Center 921 8th Street Modesto\, CA 95354
UID:e.2695.1688
SEQUENCE:3
DTSTAMP:20260419T124857Z
URL:https://business.modchamber.org/events/details/cinco-de-mayo-fiesta-05-05-2016-1688
END:VEVENT

END:VCALENDAR
