BEGIN:VCALENDAR
VERSION:2.0
PRODID:-//ChamberMaster//Event Calendar 2.0//EN
METHOD:PUBLISH
X-PUBLISHED-TTL:P3D
REFRESH-INTERVAL:P3D
CALSCALE:GREGORIAN
BEGIN:VEVENT
DTSTART:20141213T000000Z
DTEND:20141213T020000Z
X-MICROSOFT-CDO-ALLDAYEVENT:FALSE
SUMMARY:Christmas At The Commons - Open House
DESCRIPTION:Come celebrate with our Seniors at Dale Commons and enjoy Carolers\, a special visit from Santa Clause\, appetizers & beverages\, Vendor Boutque ... and meet our staff!
X-ALT-DESC;FMTTYPE=text/html:<P>Come celebrate with our Seniors at Dale Commons and enjoy Carolers\, a special visit from Santa Clause\, appetizers &amp\; beverages\, Vendor Boutque ... and meet our staff!</P>
LOCATION:Dale Commons 3900 Dale Road Modesto\, CA 95356
UID:e.2695.590
SEQUENCE:3
DTSTAMP:20260422T134212Z
URL:https://business.modchamber.org/events/details/christmas-at-the-commons-open-house-12-12-2014-590
END:VEVENT

END:VCALENDAR
