BEGIN:VCALENDAR
VERSION:2.0
PRODID:-//ChamberMaster//Event Calendar 2.0//EN
METHOD:PUBLISH
X-PUBLISHED-TTL:P3D
REFRESH-INTERVAL:P3D
CALSCALE:GREGORIAN
BEGIN:VEVENT
DTSTART:20150509T020000Z
DTEND:20150508T070000Z
X-MICROSOFT-CDO-ALLDAYEVENT:FALSE
SUMMARY:Chris Hillman & Herb Pedersen with The Agape Trio
DESCRIPTION:Arguably the pioneer of the genre known as “Country Rock\,” singer-songwriter and musician Chris Hillman has carved a permanent niche in the history of contemporary American music through his work with such notable bands as The Byrds\, The Flying Burrito Brothers and the Desert Rose Band. Artists as diverse of the late cowboy hero Roy Rogers\, Tom Petty\, Beck\, Sheryl Crow\, Rose Maddox\, Tom Petty\, The Oakridge Boys and Emmylou Harris have recorded songs written by the Rock and Roll Hall of Famer or by Chris and various collaborators over the past four decades. His influence on American music\, from folk\, bluegrass\, folk rock\, rock and roll and country roll is immeasurable! Spend an evening with Chris and his fellow Desert Rose Band member Herb Pedersen\, along with The Agape Trio\, in a performance benefitting the construction of the St. Nicholas shrine at Ground Zero in New York. In memory of those who lost their lives on 9/11\, the site will be welcome to all.\nDoors at 7\; Show at 8 p.m. \nTickets are $25\, $35 and $50 (VIP)\nContact :	The State Theatre\nPhone :	BOX OFFICE (209) 527-4697\nEmail :	\nWeb Site :	thestate.org
X-ALT-DESC;FMTTYPE=text/html:	Arguably the pioneer of the genre known as “Country Rock\,” singer-songwriter and musician Chris Hillman has carved a permanent niche in the history of contemporary American music through his work with such notable bands as The Byrds\, The Flying Burrito Brothers and the Desert Rose Band. Artists as diverse of the late cowboy hero Roy Rogers\, Tom Petty\, Beck\, Sheryl Crow\, Rose Maddox\, Tom Petty\, The Oakridge Boys and Emmylou Harris have recorded songs written by the Rock and Roll Hall of Famer or by Chris and various collaborators over the past four decades. His influence on American music\, from folk\, bluegrass\, folk rock\, rock and roll and country roll is immeasurable! Spend an evening with Chris and his fellow Desert Rose Band member Herb Pedersen\, along with The Agape Trio\, in a performance benefitting the construction of the St. Nicholas shrine at Ground Zero in New York. In memory of those who lost their lives on 9/11\, the site will be welcome to all.\nDoors at 7\; Show at 8 p.m. \nTickets are $25\, $35 and $50 (VIP)\nContact :	The State Theatre\nPhone :	BOX OFFICE (209) 527-4697\nEmail :	\nWeb Site :	thestate.org
LOCATION:State Theatre 1307 J St Modesto\, CA 95354
UID:e.2695.925
SEQUENCE:3
DTSTAMP:20260420T045801Z
URL:https://business.modchamber.org/events/details/chris-hillman-herb-pedersen-with-the-agape-trio-05-08-2015-925
END:VEVENT

END:VCALENDAR
