BEGIN:VCALENDAR
VERSION:2.0
PRODID:-//ChamberMaster//Event Calendar 2.0//EN
METHOD:PUBLISH
X-PUBLISHED-TTL:P3D
REFRESH-INTERVAL:P3D
CALSCALE:GREGORIAN
BEGIN:VEVENT
DTSTART:20150307T033000Z
DTEND:20150306T080000Z
X-MICROSOFT-CDO-ALLDAYEVENT:FALSE
SUMMARY:Cesar Millan Live!
DESCRIPTION:See the star of NatGeo WILD’s brand new series "Cesar 911" and the original host of National Geographic’s "Dog Whisperer " series perform his incredible dog training techniques\, LIVE! Cesar Millan will reveal the secrets of happier\, healthier relationships between humans and their canine companions in his exciting live show. Joined by his famous four-legged companion\, Junior\, Cesar will share his philosophies and methods\, then present examples via live demonstrations with multiple dogs. You’ll be amazed and inspired by the simplicity with which Cesar’s Way can bring harmony and balance into your and your dog’s lives. Note: Patrons may not bring their dogs to "Cesar Millan Live."\nContact :	Gallo Center\nPhone :	209-338-2100\nEmail :	\nWeb Site :	galloarts.org
X-ALT-DESC;FMTTYPE=text/html:See the star of NatGeo WILD’s brand new series "Cesar 911" and the original host of National Geographic’s "Dog Whisperer " series perform his incredible dog training techniques\, LIVE! Cesar Millan will reveal the secrets of happier\, healthier relationships between humans and their canine companions in his exciting live show. Joined by his famous four-legged companion\, Junior\, Cesar will share his philosophies and methods\, then present examples via live demonstrations with multiple dogs. You’ll be amazed and inspired by the simplicity with which Cesar’s Way can bring harmony and balance into your and your dog’s lives. Note: Patrons may not bring their dogs to "Cesar Millan Live."\nContact :	Gallo Center\nPhone :	209-338-2100\nEmail :	\nWeb Site :	galloarts.org\n\n 	
LOCATION:Gallo Center 1000 I Street Modesto\, CA 95354
UID:e.2695.632
SEQUENCE:3
DTSTAMP:20260420T073627Z
URL:https://business.modchamber.org/events/details/cesar-millan-live-03-06-2015-632
END:VEVENT

END:VCALENDAR
