BEGIN:VCALENDAR
VERSION:2.0
PRODID:-//ChamberMaster//Event Calendar 2.0//EN
METHOD:PUBLISH
X-PUBLISHED-TTL:P3D
REFRESH-INTERVAL:P3D
CALSCALE:GREGORIAN
BEGIN:VEVENT
DTSTART:20160326T183000Z
DTEND:20160326T070000Z
X-MICROSOFT-CDO-ALLDAYEVENT:FALSE
SUMMARY:CERES GARDEN CLUB'S LUNCHEON FUNDRAISER
DESCRIPTION:Beautiful and creative table-top decorations with an overly abundant buffet luncheon. Raffle and silent auction. Tickets are $25\, proceeds benefit the Ceres Garden Club Scholarship Fund\, awarded annually to a Ceres High School Graduate who is continuing their education in an agriculture/environmental studies related college major.\nContact : 	Ceres Graden Club\nPhone : 	209-402-2351\nEmail : 	\nWeb Site :
X-ALT-DESC;FMTTYPE=text/html:Beautiful and creative table-top decorations with an overly abundant buffet luncheon. Raffle and silent auction. Tickets are $25\, proceeds benefit the Ceres Garden Club Scholarship Fund\, awarded annually to a Ceres High School Graduate who is continuing their education in an agriculture/environmental studies related college major.\nContact : 	Ceres Graden Club\nPhone : 	209-402-2351\nEmail : 	\nWeb Site :
LOCATION:Stanislaus AG Center 3800 Cornucopia Way Modesto\, CA 95358
UID:e.2695.1603
SEQUENCE:3
DTSTAMP:20260419T164856Z
URL:https://business.modchamber.org/events/details/ceres-garden-club-s-luncheon-fundraiser-03-26-2016-1603
END:VEVENT

END:VCALENDAR
