BEGIN:VCALENDAR
VERSION:2.0
PRODID:-//ChamberMaster//Event Calendar 2.0//EN
METHOD:PUBLISH
X-PUBLISHED-TTL:P3D
REFRESH-INTERVAL:P3D
CALSCALE:GREGORIAN
BEGIN:VEVENT
DTSTART:20150328T020000Z
DTEND:20150327T070000Z
X-MICROSOFT-CDO-ALLDAYEVENT:FALSE
SUMMARY:Central West Ballet's 'Let's Dance! Part 2
DESCRIPTION:Let's Dance! Part 2. Six new terrific events\, one great show!\nWith six events throughout the community\, we connect with you in new\, meaningful and original ways. It all culminates with an exciting show!\nContact :	Gallo Center\nPhone :	209-338-2100\nEmail :	\nWeb Site :	galloarts.org
X-ALT-DESC;FMTTYPE=text/html:Let's Dance! Part 2. Six new terrific events\, one great show!\nWith six events throughout the community\, we connect with you in new\, meaningful and original ways. It all culminates with an exciting show!\nContact :	Gallo Center\nPhone :	209-338-2100\nEmail :	\nWeb Site :	galloarts.org
LOCATION:Gallo Center 1000 I Street Modesto\, CA 95354
UID:e.2695.824
SEQUENCE:3
DTSTAMP:20260420T074044Z
URL:https://business.modchamber.org/events/details/central-west-ballet-s-let-s-dance-part-2-03-27-2015-824
END:VEVENT

END:VCALENDAR
