BEGIN:VCALENDAR
VERSION:2.0
PRODID:-//ChamberMaster//Event Calendar 2.0//EN
METHOD:PUBLISH
X-PUBLISHED-TTL:P3D
REFRESH-INTERVAL:P3D
CALSCALE:GREGORIAN
BEGIN:VEVENT
DTSTART;VALUE=DATE:20160316
DTEND;VALUE=DATE:20160318
TRANSP:TRANSPARENT
X-MICROSOFT-CDO-ALLDAYEVENT:TRUE
SUMMARY:Central Valley Managing Green Buildings Expo
DESCRIPTION:The Central Valley Facilities/Managing Green Buildings Expo and Conference is the only annual event of its kind in the Central Valley.\n\nFree seminars will include sessions on water efficiency\, energy-efficient lighting\, predictive maintenance\, solar PV systems\, arc flash safety and roofing systems.\n\nThe event is March 16-17 at Modesto Centre Plaza\, 1000 L St. For more information\, go towww.facilitiesexpo.com or call 800-827-8009\, ext. 4402.\n\nExhibit Hall:\nMarch 16 10:00am - 3:00pm\nMarch 17 10:00am - 2:00pm\n\nConference:\nMarch 16 8:25am - 2:40pm\nMarch 17 8:25am - 2:40pm\nContact : 	Central Valley Facilities Expo\nPhone : 	800-827-8009\, ext. 4402\nEmail : 	\nWeb Site : 	www.fecv.facilitiesexpo.com
X-ALT-DESC;FMTTYPE=text/html:	The Central Valley Facilities/Managing Green Buildings Expo and Conference is the only annual event of its kind in the Central Valley.\n\nFree seminars will include sessions on water efficiency\, energy-efficient lighting\, predictive maintenance\, solar PV systems\, arc flash safety and roofing systems.\n\nThe event is March 16-17 at Modesto Centre Plaza\, 1000 L St. For more information\, go towww.facilitiesexpo.com or call 800-827-8009\, ext. 4402.\n\nExhibit Hall:\nMarch 16 10:00am - 3:00pm\nMarch 17 10:00am - 2:00pm\n\nConference:\nMarch 16 8:25am - 2:40pm\nMarch 17 8:25am - 2:40pm\nContact : 	Central Valley Facilities Expo\nPhone : 	800-827-8009\, ext. 4402\nEmail : 	\nWeb Site : 	www.fecv.facilitiesexpo.com
LOCATION:Centre Plaza 1000 L Street Modesto\, CA 95354
UID:e.2695.1564
SEQUENCE:3
DTSTAMP:20260419T164853Z
URL:https://business.modchamber.org/events/details/central-valley-managing-green-buildings-expo-03-16-2016-1564
END:VEVENT

END:VCALENDAR
