BEGIN:VCALENDAR
VERSION:2.0
PRODID:-//ChamberMaster//Event Calendar 2.0//EN
METHOD:PUBLISH
X-PUBLISHED-TTL:P3D
REFRESH-INTERVAL:P3D
CALSCALE:GREGORIAN
BEGIN:VEVENT
DTSTART:20151206T180000Z
DTEND:20151207T000000Z
X-MICROSOFT-CDO-ALLDAYEVENT:FALSE
SUMMARY:Central Valley Con
DESCRIPTION:Central Valley Con will feature well over 100 exhibitors\, artists & gaming.\nChase Chevrolet Costume Contest\nCard Gaming & video game tournament \n\nTickets: $7 at the door $5 in advance at the Battleground Games. \n\nA portion of the proceeds from each event has benefitted the United Way of San Joaquin\, and that will continue with the United Way of Stanislaus County.\nContact :	Centre Plaza\nPhone :	209-577-6445\nEmail :	\nWeb Site :
X-ALT-DESC;FMTTYPE=text/html:Central Valley Con will feature well over 100 exhibitors\, artists & gaming.\nChase Chevrolet Costume Contest\nCard Gaming & video game tournament \n\nTickets: $7 at the door $5 in advance at the Battleground Games. \n\nA portion of the proceeds from each event has benefitted the United Way of San Joaquin\, and that will continue with the United Way of Stanislaus County.\nContact :	Centre Plaza\nPhone :	209-577-6445\nEmail :	\nWeb Site :	
LOCATION:Centre Plaza 1000 L St Modesto\, CA 95354
UID:e.2695.1296
SEQUENCE:3
DTSTAMP:20260419T190447Z
URL:https://business.modchamber.org/events/details/central-valley-con-12-06-2015-1296
END:VEVENT

END:VCALENDAR
