BEGIN:VCALENDAR
VERSION:2.0
PRODID:-//ChamberMaster//Event Calendar 2.0//EN
METHOD:PUBLISH
X-PUBLISHED-TTL:P3D
REFRESH-INTERVAL:P3D
CALSCALE:GREGORIAN
BEGIN:VEVENT
DTSTART:20151029T150000Z
DTEND:20151029T210000Z
X-MICROSOFT-CDO-ALLDAYEVENT:FALSE
SUMMARY:Central Valley Business Summit 2015
DESCRIPTION:The Central Valley Business Summit was started this year to inspire and bring value to executives in our community. Our goal is to serve individuals and companies across all sectors that share the common objectives to grow their business and to hone their leadership skills. The Summit will be the first in the area to provide executives with the tools they need to drive measurable performance and to influence those that they lead.
X-ALT-DESC;FMTTYPE=text/html:<div style="FONT-FAMILY: Arial">The Central Valley Business Summit was started this year to inspire and bring value to executives in our community. Our goal is to serve individuals and companies across all sectors that share the common objectives to grow their business and to hone their leadership skills. The Summit will be the first in the area to provide executives with the tools they need to drive measurable performance and to influence those that they lead.</div>\n
LOCATION:Modesto Centre Plaza 10th & K Street Modesto\, CA 95354
UID:e.2695.611
SEQUENCE:3
DTSTAMP:20260419T230157Z
URL:https://business.modchamber.org/events/details/central-valley-business-summit-2015-611
END:VEVENT

END:VCALENDAR
