BEGIN:VCALENDAR
VERSION:2.0
PRODID:-//ChamberMaster//Event Calendar 2.0//EN
METHOD:PUBLISH
X-PUBLISHED-TTL:P3D
REFRESH-INTERVAL:P3D
CALSCALE:GREGORIAN
BEGIN:VEVENT
DTSTART:20150416T020000Z
DTEND:20150415T070000Z
X-MICROSOFT-CDO-ALLDAYEVENT:FALSE
SUMMARY:Central Catholic High Dance ''Creative Freedom''
DESCRIPTION:Central Catholic High School Dance presents "Creative Freedom". This concert is a showcase of professional & student work in performance dance\, featuring everything from hip hop and lyrical to character jazz and Bollywood. The concert has something for everyone and promises to be a night of fun filled entertainment.\nContact : 	Gallo Center\nPhone : 	209-338-2100\nEmail : 	\nWeb Site : 	galloarts.org
X-ALT-DESC;FMTTYPE=text/html:Central Catholic High School Dance presents "Creative Freedom". This concert is a showcase of professional & student work in performance dance\, featuring everything from hip hop and lyrical to character jazz and Bollywood. The concert has something for everyone and promises to be a night of fun filled entertainment.\nContact : 	Gallo Center\nPhone : 	209-338-2100\nEmail : 	\nWeb Site : 	galloarts.org
LOCATION:Gallo Center 1000 I St Modesto\, CA 95354
UID:e.2695.865
SEQUENCE:3
DTSTAMP:20260420T062752Z
URL:https://business.modchamber.org/events/details/central-catholic-high-dance-creative-freedom-04-15-2015-865
END:VEVENT

END:VCALENDAR
