BEGIN:VCALENDAR
VERSION:2.0
PRODID:-//ChamberMaster//Event Calendar 2.0//EN
METHOD:PUBLISH
X-PUBLISHED-TTL:P3D
REFRESH-INTERVAL:P3D
CALSCALE:GREGORIAN
BEGIN:VEVENT
DTSTART:20160116T040000Z
DTEND:20160115T080000Z
X-MICROSOFT-CDO-ALLDAYEVENT:FALSE
SUMMARY:CELTIC NIGHTS
DESCRIPTION:Celtic Nights is a unique show which features both the finest male and the finest female voices of the Celtic world\, showcased against a thundering backdrop of expert dancing and musicianship. In this glittering production\, six of Ireland’s most prominent vocal talents are complimented by six of its most accomplished step dancers\, creating an exhilarating picture of a proud people who dared to dream big and doggedly carved out a home in the New World. In Celtic Nights\, their story is told\, through the power and majesty of music and the hypnotic fury of dancing feet.\nContact :	Gallo Center\nPhone :	209-338-2100\nEmail :	\nWeb Site :	galloarts.org
X-ALT-DESC;FMTTYPE=text/html:Celtic Nights is a unique show which features both the finest male and the finest female voices of the Celtic world\, showcased against a thundering backdrop of expert dancing and musicianship. In this glittering production\, six of Ireland’s most prominent vocal talents are complimented by six of its most accomplished step dancers\, creating an exhilarating picture of a proud people who dared to dream big and doggedly carved out a home in the New World. In Celtic Nights\, their story is told\, through the power and majesty of music and the hypnotic fury of dancing feet.\nContact :	Gallo Center\nPhone :	209-338-2100\nEmail :	\nWeb Site :	galloarts.org
LOCATION:Gallo Center 1000 I St Modesto\, CA 95354
UID:e.2695.1339
SEQUENCE:3
DTSTAMP:20260419T190600Z
URL:https://business.modchamber.org/events/details/celtic-nights-01-15-2016-1339
END:VEVENT

END:VCALENDAR
