BEGIN:VCALENDAR
VERSION:2.0
PRODID:-//ChamberMaster//Event Calendar 2.0//EN
METHOD:PUBLISH
X-PUBLISHED-TTL:P3D
REFRESH-INTERVAL:P3D
CALSCALE:GREGORIAN
BEGIN:VEVENT
DTSTART:20150531T013000Z
DTEND:20150530T070000Z
X-MICROSOFT-CDO-ALLDAYEVENT:FALSE
SUMMARY:Celebrate The State's 80th Birthday
DESCRIPTION:The State turned 80 years young Dec. 25\, 2014\, so we’re throwing the old gal a birthday bash and benefit and you’re invited! A secret password (and tickets) will gain you entrée to a speakeasy featuring the sultry songstress Lavay Smith and Her Red Hot Skillet Lickers\, The State’s now-famous martini bar\, a photo booth\, to record your evening for posterity\, dancing and complimentary hors d' oeuvres. There will also be Cigarette Girls at your service\, vintage newsreels ~ notes on the news of the day when architect S. Charles Lee designed the Art Deco-inspired State Theatre ~ and themed Champagne cocktails to savor at our Blind Pig (another name for speakeasy during Prohibition). Party like it’s 1934 by going glam for the night with pink rouge and pouty lips (think Jean Harlow)\, highly stylized gowns with shoulder pads\, gloves and a hat cocked to the side as was the fashion of the day. Men? Double-breasted coats and fedoras! \nSpeakeasy opens at 6:30\; Lavay performs and dancing begins at 8 p.m. \nAdmission: $80 per couple\; $40 per individual\nContact :	State Theatre\nPhone :	BOX OFFICE (209) 527-4697\nEmail :	\nWeb Site :	thestate.org
X-ALT-DESC;FMTTYPE=text/html:	The State turned 80 years young Dec. 25\, 2014\, so we’re throwing the old gal a birthday bash and benefit and you’re invited! A secret password (and tickets) will gain you entrée to a speakeasy featuring the sultry songstress Lavay Smith and Her Red Hot Skillet Lickers\, The State’s now-famous martini bar\, a photo booth\, to record your evening for posterity\, dancing and complimentary hors d' oeuvres. There will also be Cigarette Girls at your service\, vintage newsreels ~ notes on the news of the day when architect S. Charles Lee designed the Art Deco-inspired State Theatre ~ and themed Champagne cocktails to savor at our Blind Pig (another name for speakeasy during Prohibition). Party like it’s 1934 by going glam for the night with pink rouge and pouty lips (think Jean Harlow)\, highly stylized gowns with shoulder pads\, gloves and a hat cocked to the side as was the fashion of the day. Men? Double-breasted coats and fedoras! \nSpeakeasy opens at 6:30\; Lavay performs and dancing begins at 8 p.m. \nAdmission: $80 per couple\; $40 per individual\nContact :	State Theatre\nPhone :	BOX OFFICE (209) 527-4697\nEmail :	\nWeb Site :	thestate.org
LOCATION:State Theatre 1307 J St Modesto\, CA 95354
UID:e.2695.948
SEQUENCE:3
DTSTAMP:20260420T045642Z
URL:https://business.modchamber.org/events/details/celebrate-the-state-s-80th-birthday-05-30-2015-948
END:VEVENT

END:VCALENDAR
