BEGIN:VCALENDAR
VERSION:2.0
PRODID:-//ChamberMaster//Event Calendar 2.0//EN
METHOD:PUBLISH
X-PUBLISHED-TTL:P3D
REFRESH-INTERVAL:P3D
CALSCALE:GREGORIAN
BEGIN:VEVENT
DTSTART:20141102T013000Z
DTEND:20141101T070000Z
X-MICROSOFT-CDO-ALLDAYEVENT:FALSE
SUMMARY:Celebracion del Dia de los Muertos - Day of the Dead Celebration
DESCRIPTION:Dear friends\, members and supporters we want to let you know that our event "2nd. Annual Dia de los Muertos (Day of the Dead) Celebration" is just around the corner. Misinformation about the event was badly spreaded into the community and our promotional posters were totally torned out by strangers. We deeply regret this behavior that only hurts the funding of our community events. TIME EVENT FOR THIS SATURDAY NOVEMBER 1st 2014 2:00PM Face painting for Day of the Dead/Dia De Los Muertos\, in front of Modesto Centre Plaza4:00pm Sugar Skull painting & designing in front of Modesto Centre Plaza4:00pm Car show in front of Brenden Theatre4:00pm Viewing of the Alters/Altares/Ofrendas in the lobby of the Modesto Centre Plaza4:00pm Viewing of decorated tables with theme of "VIVA LOS MUERTOS/LONG LIVE THE DEAD"6:00pm Procession from St. Stanislaus Catholic Church parking lot on K Street to the Modesto Centre Plaza.  There will be a hearse in the procession\, decorated coffin with the theme and 6 pallbearers\, motorcycles\; Aztec dancers\; several folkloric groups and many community members. 6:20pm Aztec dancers will entertain the public in front of the Modesto Centre Plaza7:00pm Awards Banquet\, dinner\, live entertainment and dance Tickets are $35.00 a person or $20.00 for students and can be purchased at the Modesto Visitors Convention Bureau\, 1150 9th Street\, Modesto or call (209) 526-5588 or LCR at (209) 303-2664. For your convenience you can buy your tickets at the door. \n ...(LCR) is inviting the community to capture the spirit and participate in this cultural tradition. Honoring the Dia de los Muertos -a two-day cultural commemorative celebration- that takes place every November 1 and 2 in Mexico and other Latin American countries. The invitation is for all cultural backgrounds to celebrate this unique and rich Mexican tradition...Maggie Mejia... "Our program\, activities and contests is to educate and involve the public in this celebration of the cycle of life with an artistic and a significant way" \nPlease RSVP to Maggie Mejia at (209) 303-2664.
X-ALT-DESC;FMTTYPE=text/html:<DIV style="FONT-FAMILY: Arial">&nbsp\;</DIV><DIV style="FONT-FAMILY: Arial"><TABLE class=MsoNormalTable style="WIDTH: 100%\; mso-cellspacing: 0in\; mso-yfti-tbllook: 1184\; mso-padding-alt: 3.75pt 3.75pt 3.75pt 3.75pt" cellSpacing=0 cellPadding=0 width="100%" border=0><TBODY><TR style="mso-yfti-irow: 0\; mso-yfti-firstrow: yes\; mso-yfti-lastrow: yes"><TD style="BORDER-RIGHT: #d4d0c8\; PADDING-RIGHT: 3.75pt\; BORDER-TOP: #d4d0c8\; PADDING-LEFT: 3.75pt\; PADDING-BOTTOM: 3.75pt\; BORDER-LEFT: #d4d0c8\; PADDING-TOP: 3.75pt\; BORDER-BOTTOM: #d4d0c8\; BACKGROUND-COLOR: transparent" vAlign=top><P class=MsoNormal style="BACKGROUND: white\; MARGIN: 0in 0in 4.5pt"><SPAN style="COLOR: #222222\; FONT-FAMILY: 'Arial'\,sans-serif\; mso-fareast-font-family: 'Times New Roman'">Dear friends\, members and supporters we want to let you know that our event <STRONG><SPAN style="FONT-FAMILY: 'Arial'\,sans-serif">"2nd.&nbsp\;Annual Dia de los Muertos (Day of the Dead) Celebration" </SPAN></STRONG>is just around the corner. Misinformation about the event was badly spreaded into the community and our promotional posters were totally torned out by strangers. We deeply regret this behavior that only hurts the funding of our community events.<?xml:namespace prefix = o ns = "urn:schemas-microsoft-com:office:office" /><o:p></o:p></SPAN></P><P class=MsoNormal style="BACKGROUND: white\; MARGIN: 0in 0in 4.5pt"><SPAN style="COLOR: #222222\; FONT-FAMILY: 'Arial'\,sans-serif\; mso-fareast-font-family: 'Times New Roman'"><o:p>&nbsp\;</o:p></SPAN></P><P class=MsoNormal style="BACKGROUND: white\; MARGIN: 0in 0in 4.5pt\; TEXT-ALIGN: center" align=center><STRONG><SPAN style="COLOR: red\; FONT-FAMILY: 'Arial'\,sans-serif\; mso-fareast-font-family: 'Times New Roman'">TIME EVENT FOR THIS SATURDAY NOVEMBER 1st 2014</SPAN></STRONG><SPAN style="COLOR: red\; FONT-FAMILY: 'Arial'\,sans-serif\; mso-fareast-font-family: 'Times New Roman'"><o:p></o:p></SPAN></P><P class=MsoNormal style="BACKGROUND: white\; MARGIN: 0in 0in 4.5pt"><SPAN style="COLOR: #222222\; FONT-FAMILY: 'Arial'\,sans-serif\; mso-fareast-font-family: 'Times New Roman'"><o:p>&nbsp\;</o:p></SPAN></P><P class=MsoNormal style="BACKGROUND: white\; MARGIN: 0in 0in 4.5pt"><STRONG><SPAN style="COLOR: #222222\; FONT-FAMILY: 'Arial'\,sans-serif\; mso-fareast-font-family: 'Times New Roman'">2:00PM&nbsp\;</SPAN></STRONG><SPAN style="COLOR: #222222\; FONT-FAMILY: 'Arial'\,sans-serif\; mso-fareast-font-family: 'Times New Roman'">Face painting for Day of the Dead/Dia De Los Muertos\, in front of Modesto Centre Plaza<o:p></o:p></SPAN></P><P class=MsoNormal style="BACKGROUND: white\; MARGIN: 0in 0in 4.5pt"><STRONG><SPAN style="COLOR: #222222\; FONT-FAMILY: 'Arial'\,sans-serif\; mso-fareast-font-family: 'Times New Roman'">4:00pm&nbsp\;</SPAN></STRONG><SPAN style="COLOR: #222222\; FONT-FAMILY: 'Arial'\,sans-serif\; mso-fareast-font-family: 'Times New Roman'">Sugar Skull painting &amp\; designing in front of Modesto Centre Plaza<o:p></o:p></SPAN></P><P class=MsoNormal style="BACKGROUND: white\; MARGIN: 0in 0in 4.5pt"><STRONG><SPAN style="COLOR: #222222\; FONT-FAMILY: 'Arial'\,sans-serif\; mso-fareast-font-family: 'Times New Roman'">4:00pm&nbsp\;</SPAN></STRONG><SPAN style="COLOR: #222222\; FONT-FAMILY: 'Arial'\,sans-serif\; mso-fareast-font-family: 'Times New Roman'">Car show in front of Brenden Theatre<o:p></o:p></SPAN></P><P class=MsoNormal style="BACKGROUND: white\; MARGIN: 0in 0in 4.5pt"><STRONG><SPAN style="COLOR: #222222\; FONT-FAMILY: 'Arial'\,sans-serif\; mso-fareast-font-family: 'Times New Roman'">4:00pm&nbsp\;</SPAN></STRONG><SPAN style="COLOR: #222222\; FONT-FAMILY: 'Arial'\,sans-serif\; mso-fareast-font-family: 'Times New Roman'">Viewing of the Alters/Altares/Ofrendas in the lobby of the Modesto Centre Plaza<o:p></o:p></SPAN></P><P class=MsoNormal style="BACKGROUND: white\; MARGIN: 0in 0in 4.5pt"><STRONG><SPAN style="COLOR: #222222\; FONT-FAMILY: 'Arial'\,sans-serif\; mso-fareast-font-family: 'Times New Roman'">4:00pm&nbsp\;</SPAN></STRONG><SPAN style="COLOR: #222222\; FONT-FAMILY: 'Arial'\,sans-serif\; mso-fareast-font-family: 'Times New Roman'">Viewing of decorated tables with theme of "VIVA LOS MUERTOS/LONG LIVE THE DEAD"<o:p></o:p></SPAN></P><P class=MsoNormal style="BACKGROUND: white\; MARGIN: 0in 0in 4.5pt"><STRONG><SPAN style="COLOR: #222222\; FONT-FAMILY: 'Arial'\,sans-serif\; mso-fareast-font-family: 'Times New Roman'">6:00pm&nbsp\;</SPAN></STRONG><SPAN style="COLOR: #222222\; FONT-FAMILY: 'Arial'\,sans-serif\; mso-fareast-font-family: 'Times New Roman'">Procession from St. Stanislaus Catholic Church parking lot on K Street to the Modesto Centre Plaza.&nbsp\; There will be a hearse in the procession\, decorated coffin with the theme and 6 pallbearers\, motorcycles\; Aztec dancers\; several folkloric groups and many community&nbsp\;members.&nbsp\;<o:p></o:p></SPAN></P><P class=MsoNormal style="BACKGROUND: white\; MARGIN: 0in 0in 4.5pt"><STRONG><SPAN style="COLOR: #222222\; FONT-FAMILY: 'Arial'\,sans-serif\; mso-fareast-font-family: 'Times New Roman'">6:20pm&nbsp\;</SPAN></STRONG><SPAN style="COLOR: #222222\; FONT-FAMILY: 'Arial'\,sans-serif\; mso-fareast-font-family: 'Times New Roman'">Aztec dancers will entertain the public in front of the Modesto Centre Plaza<o:p></o:p></SPAN></P><P class=MsoNormal style="BACKGROUND: white\; MARGIN: 0in 0in 4.5pt"><STRONG><SPAN style="COLOR: #222222\; FONT-FAMILY: 'Arial'\,sans-serif\; mso-fareast-font-family: 'Times New Roman'">7:00pm&nbsp\;</SPAN></STRONG><SPAN style="COLOR: #222222\; FONT-FAMILY: 'Arial'\,sans-serif\; mso-fareast-font-family: 'Times New Roman'">Awards Banquet\, dinner\, live entertainment and dance&nbsp\;Tickets are $35.00 a person or $20.00 for students and can be purchased at the Modesto Visitors Convention Bureau\, 1150 9th Street\, Modesto or call&nbsp\;(209) 526-5588&nbsp\;or LCR at&nbsp\;(209) 303-2664. For your convenience you can buy your tickets at the door. <o:p></o:p></SPAN></P><P style="BACKGROUND: white\; MARGIN: 0in 0in 0pt"><SPAN style="COLOR: #222222\; FONT-FAMILY: 'Arial'\,sans-serif"><BR>&nbsp\;<o:p></o:p></SPAN></P><P class=MsoNormal style="BACKGROUND: white\; MARGIN: 0in 0in 12pt"><EM><B><SPAN style="COLOR: blue\; FONT-FAMILY: 'Arial'\,sans-serif\; mso-fareast-font-family: 'Times New Roman'">...(LCR) is inviting the community to capture the spirit and participate in this cultural tradition. Honoring the Dia de los Muertos -a two-day cultural commemorative celebration- that takes place every November 1 and 2 in Mexico and other Latin American countries. The invitation is for all cultural backgrounds to celebrate this unique and rich Mexican tradition...</SPAN></B></EM><SPAN style="COLOR: #222222\; FONT-FAMILY: 'Arial'\,sans-serif\; mso-fareast-font-family: 'Times New Roman'"><o:p></o:p></SPAN></P><P style="BACKGROUND: white\; MARGIN: 0in 0in 0pt"><EM><B><SPAN style="COLOR: red\; FONT-FAMILY: 'Arial'\,sans-serif">Maggie Mejia... "Our program\, activities and contests is to educate and involve the public in this celebration of the cycle of life with an artistic and a significant way"&nbsp\;</SPAN></B></EM><SPAN style="COLOR: red\; FONT-FAMILY: 'Arial'\,sans-serif"><o:p></o:p></SPAN></P><P style="BACKGROUND: white\; MARGIN: 0in 0in 0pt"><I><SPAN style="COLOR: red\; FONT-FAMILY: 'Arial'\,sans-serif"><BR></SPAN></I></P><P style="BACKGROUND: white\; MARGIN: 0in 0in 0pt\; TEXT-ALIGN: center" align=center><SPAN style="COLOR: #222222\; FONT-FAMILY: 'Arial'\,sans-serif"><EM><SPAN style="FONT-FAMILY: 'Arial'\,sans-serif">Please RSVP to&nbsp\;</SPAN></EM><o:p></o:p></SPAN></P><P class=MsoNormal style="BACKGROUND: white\; MARGIN: 0in 0in 0pt\; TEXT-ALIGN: center" align=center><EM><SPAN style="COLOR: #222222\; FONT-FAMILY: 'Arial'\,sans-serif\; mso-fareast-font-family: 'Times New Roman'">Maggie Mejia at&nbsp\;(209) 303-2664.</SPAN></EM><SPAN style="COLOR: #222222\; FONT-FAMILY: 'Arial'\,sans-serif\; mso-fareast-font-family: 'Times New Roman'"><o:p></o:p></SPAN></P></TD></TR></TBODY></TABLE><P class=MsoNormal style="MARGIN: 0in 0in 0pt"><SPAN style="DISPLAY: none\; mso-fareast-font-family: 'Times New Roman'\; mso-hide: all"><o:p><FONT face="Times New Roman">&nbsp\;</FONT></o:p></SPAN></P><TABLE class=MsoNormalTable id=content_LETTER.BLOCK5 style="WIDTH: 100%\; mso-cellspacing: 0in\; mso-yfti-tbllook: 1184\; mso-padding-alt: 3.75pt 3.75pt 3.75pt 3.75pt" cellSpacing=0 cellPadding=0 width="100%" border=0><TBODY><TR style="mso-yfti-irow: 0\; mso-yfti-firstrow: yes\; mso-yfti-lastrow: yes"><TD style="BORDER-RIGHT: #d4d0c8\; PADDING-RIGHT: 3.75pt\; BORDER-TOP: #d4d0c8\; PADDING-LEFT: 3.75pt\; PADDING-BOTTOM: 3.75pt\; BORDER-LEFT: #d4d0c8\; PADDING-TOP: 3.75pt\; BORDER-BOTTOM: #d4d0c8\; BACKGROUND-COLOR: transparent"><P class=MsoNormal style="MARGIN: 0in 0in 4.5pt\; TEXT-ALIGN: center" align=center><SPAN style="COLOR: black\; FONT-FAMILY: 'Arial'\,sans-serif\; mso-fareast-font-family: 'Times New Roman'"></SPAN></P></TD></TR></TBODY></TABLE></DIV><DIV style="FONT-FAMILY: Arial"><FONT face="Times New Roman"></FONT>&nbsp\;</DIV>
LOCATION:Modesto Centre Plaza 1000 L Street Modesto\,
UID:e.2695.582
SEQUENCE:3
DTSTAMP:20260422T154357Z
URL:https://business.modchamber.org/events/details/celebracion-del-dia-de-los-muertos-day-of-the-dead-celebration-11-01-2014-582
END:VEVENT

END:VCALENDAR
