BEGIN:VCALENDAR
VERSION:2.0
PRODID:-//ChamberMaster//Event Calendar 2.0//EN
METHOD:PUBLISH
X-PUBLISHED-TTL:P3D
REFRESH-INTERVAL:P3D
CALSCALE:GREGORIAN
BEGIN:VEVENT
DTSTART:20160501T010000Z
DTEND:20160430T070000Z
X-MICROSOFT-CDO-ALLDAYEVENT:FALSE
SUMMARY:CASA Light of Hope
DESCRIPTION:Please join us at our annual Light of Hope benefit dinner!\n\nTBA\nContact : 	CASA of Stanislaus County\nPhone : 	209-548-6320\nEmail : 	\nWeb Site :
X-ALT-DESC;FMTTYPE=text/html:Please join us at our annual Light of Hope benefit dinner!\n\nTBA\nContact : 	CASA of Stanislaus County\nPhone : 	209-548-6320\nEmail : 	\nWeb Site :
LOCATION:Del Rio Country Club 801 Stewart Road Modesto\, CA 95356
UID:e.2695.1630
SEQUENCE:3
DTSTAMP:20260419T152650Z
URL:https://business.modchamber.org/events/details/casa-light-of-hope-04-30-2016-1630
END:VEVENT

END:VCALENDAR
