BEGIN:VCALENDAR
VERSION:2.0
PRODID:-//ChamberMaster//Event Calendar 2.0//EN
METHOD:PUBLISH
X-PUBLISHED-TTL:P3D
REFRESH-INTERVAL:P3D
CALSCALE:GREGORIAN
BEGIN:VEVENT
DTSTART:20151003T160000Z
DTEND:20151003T220000Z
X-MICROSOFT-CDO-ALLDAYEVENT:FALSE
SUMMARY:Car Show & Halloween Fun
DESCRIPTION:Free hot dogs and face painting.\n\nTime to trick or treat\, come in your halloween costume.\n\nClassic Car Show!\n\nKids Workshop\nContact :	Home Depot\nPhone :	(209) 491-0200\nEmail :	\nWeb Site :
X-ALT-DESC;FMTTYPE=text/html:Free hot dogs and face painting.\n\nTime to trick or treat\, come in your halloween costume.\n\nClassic Car Show!\n\nKids Workshop\nContact :	Home Depot\nPhone :	(209) 491-0200\nEmail :	\nWeb Site :	
LOCATION:Home Depot 1617 Carpenter Road Modesto\, CA 95358
UID:e.2695.1211
SEQUENCE:3
DTSTAMP:20260419T230355Z
URL:https://business.modchamber.org/events/details/car-show-halloween-fun-10-03-2015-1211
END:VEVENT

END:VCALENDAR
