BEGIN:VCALENDAR
VERSION:2.0
PRODID:-//ChamberMaster//Event Calendar 2.0//EN
METHOD:PUBLISH
X-PUBLISHED-TTL:P3D
REFRESH-INTERVAL:P3D
CALSCALE:GREGORIAN
BEGIN:VEVENT
DTSTART:20150314T150000Z
DTEND:20150314T070000Z
X-MICROSOFT-CDO-ALLDAYEVENT:FALSE
SUMMARY:Cancer Survivorship Conference
DESCRIPTION:Our goal is to continually support our community of survivors and caregivers by providing new topics\, information and inspiration each year.\n\nThe conference includes presentations from keynote speakers\, a breakout session\, exhibits\, continental breakfast and lunch. Exhibits will provide you with valuable information from local cancer community partners\, support groups\, and our own Cancer Services\, Clinical Trials\, Patient Navigation and Healing Journey Complementary Therapy Program.\n\nSPEAKERS & CONTRIBUTORS:\n\nStarr Carson Cleary\, B.A.\, MFT\, CES\nCertified Cancer Exercise Specialist\, Healing Journey Complementary Therapy facilitator\nErika Connor\, R.D.\, CSO\nOutpatient Oncology Dietitian\, Stanford Cancer Center\, Nutrition Advisor\, Consultant and Certified Specialist in Oncology Nutrition\nAndy Doub \nWriter and Musician\, Healing Journey Complementary Therapy facilitator\nShelly Edwards\, LCSW \nSutter Health Central Valley Region\, Social Services Manager\nKathy LaTour\, B.A. MFA \nCo-Founder of CURE Magazine\, Writer\, National Speaker\, Senior Lecturer and Adjunct Writing Faculty at Southern Methodist University and Cancer Survivor\nRick Redner\, LCSW \nSocial Worker\, Local Business Owner\, Writer\, Speaker and Cancer Survivor\nLin Sexton \nWriter and Director\, Healing Journey Complementary Therapy facilitator\nDavid Shiba\, M.D.\, Ph.D. \nMedical Oncologist\, Sutter Gould Medical Foundation (External Link)\, Medical Director\, Memorial Medical Center Cancer Program\nBill Wood \nPhotographer\, Healing Journey Complementary Therapy facilitator\nTIME & \nLOCATION\nSaturday\, March 14\, 2015\nStarts at 8:00 a.m.\nModesto Junior College\, West Campus\nMary Stuart Rogers Buidling\, \n2201 Blue Gum Avenue\, Modesto\n\nHOW TO REGISTER\nCancer survivors\, caregivers or supporters\, health care professionals can register online or by contacting Cancer Services.\n\nOnline Registration\nCancer Services: 209-569-7789\nAttendees may come for all or part of the conference\, but registration is required.\n\nMORNING AGENDA:\n\n8:00 a.m. – Check in and Continental Breakfast\n8:45 a.m. – Welcome and Introductions (David Shiba\, M.D.)\n9:00 a.m. – Dealing with the Fear of Recurrence (Kathy LaTour\, B.A.\, MFA)\n10:00 a.m. – Break\n10:15 a.m. – Coping with the Emotional and Relational Aspects of Cancer (Rick Redner\, LCSW )\n11:00 a.m. – Stretch Break with Starr (Starr Carson Cleary\, B.A.\, MFT\, CES)\n11:15 a.m. – Supporting our Supporters: Caregivers (Shelly Edwards\, LCSW)\n12:00 p.m. – Lunch\nAFTERNOON AGENDA:\n\n1:00 p.m. – Nutrition and Lifestyle (Erika Connor\, R.D.\, CSO)\n1:45 p.m. – Break\n2:00 p.m. – Breakout Session\n3:10 p.m. – The Positive Side of Cancer\, Encouragement\, Hope and Inspiration (Andy Doub\, Lin Sexton and Bill Wood)\n3:45 p.m. – Healing Journey Reception (A chance to meet our guest speakers and Healing Journey facilitators)\nPlease Note: Program changes may occur due to unforeseen circumstances.\nContact :	Cancer Services\nPhone :	209-569-7789\nEmail :	\nWeb Site :
X-ALT-DESC;FMTTYPE=text/html:Our goal is to continually support our community of survivors and caregivers by providing new topics\, information and inspiration each year.\n\nThe conference includes presentations from keynote speakers\, a breakout session\, exhibits\, continental breakfast and lunch. Exhibits will provide you with valuable information from local cancer community partners\, support groups\, and our own Cancer Services\, Clinical Trials\, Patient Navigation and Healing Journey Complementary Therapy Program.\n\nSPEAKERS & CONTRIBUTORS:\n\nStarr Carson Cleary\, B.A.\, MFT\, CES\nCertified Cancer Exercise Specialist\, Healing Journey Complementary Therapy facilitator\nErika Connor\, R.D.\, CSO\nOutpatient Oncology Dietitian\, Stanford Cancer Center\, Nutrition Advisor\, Consultant and Certified Specialist in Oncology Nutrition\nAndy Doub \nWriter and Musician\, Healing Journey Complementary Therapy facilitator\nShelly Edwards\, LCSW \nSutter Health Central Valley Region\, Social Services Manager\nKathy LaTour\, B.A. MFA \nCo-Founder of CURE Magazine\, Writer\, National Speaker\, Senior Lecturer and Adjunct Writing Faculty at Southern Methodist University and Cancer Survivor\nRick Redner\, LCSW \nSocial Worker\, Local Business Owner\, Writer\, Speaker and Cancer Survivor\nLin Sexton \nWriter and Director\, Healing Journey Complementary Therapy facilitator\nDavid Shiba\, M.D.\, Ph.D. \nMedical Oncologist\, Sutter Gould Medical Foundation (External Link)\, Medical Director\, Memorial Medical Center Cancer Program\nBill Wood \nPhotographer\, Healing Journey Complementary Therapy facilitator\nTIME & \nLOCATION\nSaturday\, March 14\, 2015\nStarts at 8:00 a.m.\nModesto Junior College\, West Campus\nMary Stuart Rogers Buidling\, \n2201 Blue Gum Avenue\, Modesto\n\nHOW TO REGISTER\nCancer survivors\, caregivers or supporters\, health care professionals can register online or by contacting Cancer Services.\n\nOnline Registration\nCancer Services: 209-569-7789\nAttendees may come for all or part of the conference\, but registration is required.\n\nMORNING AGENDA:\n\n8:00 a.m. – Check in and Continental Breakfast\n8:45 a.m. – Welcome and Introductions (David Shiba\, M.D.)\n9:00 a.m. – Dealing with the Fear of Recurrence (Kathy LaTour\, B.A.\, MFA)\n10:00 a.m. – Break\n10:15 a.m. – Coping with the Emotional and Relational Aspects of Cancer (Rick Redner\, LCSW )\n11:00 a.m. – Stretch Break with Starr (Starr Carson Cleary\, B.A.\, MFT\, CES)\n11:15 a.m. – Supporting our Supporters: Caregivers (Shelly Edwards\, LCSW)\n12:00 p.m. – Lunch\nAFTERNOON AGENDA:\n\n1:00 p.m. – Nutrition and Lifestyle (Erika Connor\, R.D.\, CSO)\n1:45 p.m. – Break\n2:00 p.m. – Breakout Session\n3:10 p.m. – The Positive Side of Cancer\, Encouragement\, Hope and Inspiration (Andy Doub\, Lin Sexton and Bill Wood)\n3:45 p.m. – Healing Journey Reception (A chance to meet our guest speakers and Healing Journey facilitators)\nPlease Note: Program changes may occur due to unforeseen circumstances.\nContact :	Cancer Services\nPhone :	209-569-7789\nEmail :	\nWeb Site :
LOCATION:Modesto Junior College\, West Campus 2201 Blue Gum Avenue Modesto\, CA 95358
UID:e.2695.795
SEQUENCE:3
DTSTAMP:20260420T074043Z
URL:https://business.modchamber.org/events/details/cancer-survivorship-conference-03-14-2015-795
END:VEVENT

END:VCALENDAR
