BEGIN:VCALENDAR
VERSION:2.0
PRODID:-//ChamberMaster//Event Calendar 2.0//EN
METHOD:PUBLISH
X-PUBLISHED-TTL:P3D
REFRESH-INTERVAL:P3D
CALSCALE:GREGORIAN
BEGIN:VEVENT
DTSTART:20160312T160000Z
DTEND:20160312T080000Z
X-MICROSOFT-CDO-ALLDAYEVENT:FALSE
SUMMARY:CANCER SURVIVORSHIP CONFERENCE
DESCRIPTION:The conference includes presentations from keynote speakers\, a breakout session\, exhibits\, continental breakfast and lunch. Exhibits will provide you with valuable information from local cancer community partners\, support groups\, and our own Cancer Services\, Clinical Trials\, Patient Navigation and Healing Journey Complementary Therapy Program.\nContact :	Sutter Health Memorial Medical Center\nPhone :	209-569-7789\nEmail :	\nWeb Site :	http://www.memorialmedicalcenter.org/
X-ALT-DESC;FMTTYPE=text/html:The conference includes presentations from keynote speakers\, a breakout session\, exhibits\, continental breakfast and lunch. Exhibits will provide you with valuable information from local cancer community partners\, support groups\, and our own Cancer Services\, Clinical Trials\, Patient Navigation and Healing Journey Complementary Therapy Program.\nContact :	Sutter Health Memorial Medical Center\nPhone :	209-569-7789\nEmail :	\nWeb Site :	http://www.memorialmedicalcenter.org/\n
LOCATION:MJC\, West Campus 2201 Blue Gum Ave. Modesto\, CA 95358
UID:e.2695.1460
SEQUENCE:3
DTSTAMP:20260419T164615Z
URL:https://business.modchamber.org/events/details/cancer-survivorship-conference-03-12-2016-1460
END:VEVENT

END:VCALENDAR
