BEGIN:VCALENDAR
VERSION:2.0
PRODID:-//ChamberMaster//Event Calendar 2.0//EN
METHOD:PUBLISH
X-PUBLISHED-TTL:P3D
REFRESH-INTERVAL:P3D
CALSCALE:GREGORIAN
BEGIN:VEVENT
DTSTART:20160408T230000Z
DTEND:20160409T020000Z
X-MICROSOFT-CDO-ALLDAYEVENT:FALSE
SUMMARY:Camp Erin's Drive Thru BBQ Fundraiser
DESCRIPTION:Catering by: Ken & Pam's catering\n\nCost $20.00\nTicket sales end April 1st\n\nMenu:\nHalf a Chicken\nChili Beans\nPotato Salad\nDinner Roll\nContact : 	Stacy\nPhone : 	209-578-6300\nEmail : 	\nWeb Site :
X-ALT-DESC;FMTTYPE=text/html:	Catering by: Ken & Pam's catering\n\nCost $20.00\nTicket sales end April 1st\n\nMenu:\nHalf a Chicken\nChili Beans\nPotato Salad\nDinner Roll\nContact : 	Stacy\nPhone : 	209-578-6300\nEmail : 	\nWeb Site :
LOCATION:Community Hospice 4368 Spyres Way Modesto\, CA 95356
UID:e.2695.1579
SEQUENCE:3
DTSTAMP:20260419T152808Z
URL:https://business.modchamber.org/events/details/camp-erin-s-drive-thru-bbq-fundraiser-04-08-2016-1579
END:VEVENT

END:VCALENDAR
