BEGIN:VCALENDAR
VERSION:2.0
PRODID:-//ChamberMaster//Event Calendar 2.0//EN
METHOD:PUBLISH
X-PUBLISHED-TTL:P3D
REFRESH-INTERVAL:P3D
CALSCALE:GREGORIAN
BEGIN:VEVENT
DTSTART:20150620T180000Z
DTEND:20150620T070000Z
X-MICROSOFT-CDO-ALLDAYEVENT:FALSE
SUMMARY:California
DESCRIPTION:The Dance Academy is honored to once again present its 2015 dance production “California” at the Gallo Center for the Arts. With a mission of providing a positive approach to dance education in a professional setting\, The Dance Academy offers a program designed for children through adults at levels beginning through advanced. During the June 20th productions\, the audience will enjoy performances which include children starting at age 3\, teens and adults presenting jazz\, tap\, lyrical\, contemporary and hip hop dance styles. In addition\, the ballet and pointe students will be sharing an original fairy tale... “The Enchanted Journey.” \n\nThe performances will benefit Autism Speaks. Their mission is to respond to the most urgent needs of the autism community\, providing real help and hope so that all affected can reach their full potential.
X-ALT-DESC;FMTTYPE=text/html:The Dance Academy is honored to once again present its 2015 dance production “California” at the Gallo Center for the Arts. With a mission of providing a positive approach to dance education in a professional setting\, The Dance Academy offers a program designed for children through adults at levels beginning through advanced. During the June 20th productions\, the audience will enjoy performances which include children starting at age 3\, teens and adults presenting jazz\, tap\, lyrical\, contemporary and hip hop dance styles. In addition\, the ballet and pointe students will be sharing an original fairy tale... “The Enchanted Journey.” \n\nThe performances will benefit Autism Speaks. Their mission is to respond to the most urgent needs of the autism community\, providing real help and hope so that all affected can reach their full potential.
LOCATION:Gallo Center 1000 I St Modesto\, CA 95354
UID:e.2695.1118
SEQUENCE:3
DTSTAMP:20260420T045330Z
URL:https://business.modchamber.org/events/details/california-06-20-2015-1118
END:VEVENT

END:VCALENDAR
