BEGIN:VCALENDAR
VERSION:2.0
PRODID:-//ChamberMaster//Event Calendar 2.0//EN
METHOD:PUBLISH
X-PUBLISHED-TTL:P3D
REFRESH-INTERVAL:P3D
CALSCALE:GREGORIAN
BEGIN:VEVENT
DTSTART:20150206T170000Z
DTEND:20150207T000000Z
X-MICROSOFT-CDO-ALLDAYEVENT:FALSE
SUMMARY:Cal/OSHA Compliance 2015
DESCRIPTION:Cal/OSHA Compliance 2015\, presented by NelsonFebruary 6th\, 20159am-4pm: Breakfast and Lunch providedLocation: Modesto DoubleTreeComplimentary from Nelson\, savings of $249/person!!!Overview: Whether you’re new to the safety profession\, or a seasoned veteran\, you will gain keen insight into the fundamental elements of Cal/OSHA’s regulatory compliance\, how to apply it to your business\, and how to promote Safety Excellence throughout your organization.  Bill Morgan\, President of Morgan Safety and a highly acclaimed safety professional with over 30 years’ experience delivers a power packed 6-hour interactive seminar on how to make OSHA regulations work to your company’s advantage. As a classmate with other safety professionals\, you will hear about real experiences and ideas that others have tested and/or implemented in their safety culture.  You will walk away filled with new and fresh safety concepts that you will be eager to utilize in your workplace.  What you will learn:-          What triggers a Cal/OSHA Inspection\, what the look for\, and how to handle it-          How to keep in compliance and best represent your company in an audit-          Penalty Structure and Appeal Process-          Latest updates\, changes in requirements\, and current Emphasis Programs -          How to breeze through an OSHA inspection\, pass it with flying colors\, and help your company increase bottom line profits.What you will gain:-          Certificate of completion from Morgan Safety-          Workbook and complete course content-          Door prizes and a chance to win your very own deluxe 4-person 3-day emergency preparedness kit! (Value of $249)RSVP by Friday\, 1/23/15:-       Call Linda at Nelson Staffing   209-575-7170
X-ALT-DESC;FMTTYPE=text/html:<DIV style="FONT-FAMILY: Arial"><P class=MsoNormal style="MARGIN: 0in 0in 0pt\; TEXT-ALIGN: center" align=center><B><SPAN style="FONT-SIZE: 12pt\; FONT-FAMILY: 'Helvetica'\,sans-serif"></SPAN></B></P><P class=MsoNormal style="MARGIN: 0in 0in 0pt\; TEXT-ALIGN: center" align=center><B><SPAN style="FONT-SIZE: 12pt\; FONT-FAMILY: 'Helvetica'\,sans-serif"></SPAN></B></P><P class=MsoNormal style="MARGIN: 0in 0in 0pt\; TEXT-ALIGN: center" align=center><B><SPAN style="FONT-SIZE: 12pt\; FONT-FAMILY: 'Helvetica'\,sans-serif">Cal/OSHA Compliance 2015\, <I>presented by Nelson<?xml:namespace prefix = o ns = "urn:schemas-microsoft-com:office:office" /><o:p></o:p></I></SPAN></B></P><P class=MsoNormal style="MARGIN: 0in 0in 0pt\; TEXT-ALIGN: center" align=center><I><SPAN style="FONT-SIZE: 12pt\; FONT-FAMILY: 'Helvetica'\,sans-serif">February 6<SUP>th</SUP>\, 2015<o:p></o:p></SPAN></I></P><P class=MsoNormal style="MARGIN: 0in 0in 0pt\; TEXT-ALIGN: center" align=center><I><SPAN style="FONT-SIZE: 12pt\; FONT-FAMILY: 'Helvetica'\,sans-serif">9am-4pm: Breakfast and Lunch provided<o:p></o:p></SPAN></I></P><P class=MsoNormal style="MARGIN: 0in 0in 0pt\; TEXT-ALIGN: center" align=center><I><SPAN style="FONT-SIZE: 12pt\; FONT-FAMILY: 'Helvetica'\,sans-serif">Location: Modesto DoubleTree<o:p></o:p></SPAN></I></P><P class=MsoNormal style="MARGIN: 0in 0in 0pt\; TEXT-ALIGN: center" align=center><I><U><SPAN style="FONT-SIZE: 12pt\; FONT-FAMILY: 'Helvetica'\,sans-serif">Complimentary</SPAN></U></I><I><SPAN style="FONT-SIZE: 12pt\; FONT-FAMILY: 'Helvetica'\,sans-serif"> from Nelson\, savings of $249/person!!!<o:p></o:p></SPAN></I></P><P class=MsoNormal style="MARGIN: 0in 0in 0pt"><B><SPAN style="FONT-SIZE: 12pt\; FONT-FAMILY: 'Helvetica'\,sans-serif">Overview: <o:p></o:p></SPAN></B></P><P class=MsoNormal style="MARGIN: 0in 0in 0pt"><SPAN style="FONT-SIZE: 12pt\; FONT-FAMILY: 'Helvetica'\,sans-serif">Whether you’re new to the safety profession\, or a seasoned veteran\, you will gain keen insight into the fundamental elements of Cal/OSHA’s regulatory compliance\, how to apply it to your business\, and how to promote Safety Excellence throughout your organization.&nbsp\; <o:p></o:p></SPAN></P><P class=MsoNormal style="MARGIN: 0in 0in 0pt"><SPAN style="FONT-SIZE: 12pt\; FONT-FAMILY: 'Helvetica'\,sans-serif">Bill Morgan\, President of Morgan Safety and a highly acclaimed safety professional with over 30 years’ experience delivers a power packed 6-hour interactive seminar on how to make OSHA regulations work to your company’s advantage. <o:p></o:p></SPAN></P><P class=MsoNormal style="MARGIN: 0in 0in 0pt"><SPAN style="FONT-SIZE: 12pt\; FONT-FAMILY: 'Helvetica'\,sans-serif">As a classmate with other safety professionals\, you will hear about real experiences and ideas that others have tested and/or implemented in their safety culture.&nbsp\; You will walk away filled with new and fresh safety concepts that you will be eager to utilize in your workplace.&nbsp\; <o:p></o:p></SPAN></P><P class=MsoNormal style="MARGIN: 0in 0in 0pt"><B><SPAN style="FONT-SIZE: 12pt\; FONT-FAMILY: 'Helvetica'\,sans-serif">What you will learn:<o:p></o:p></SPAN></B></P><P class=MsoListParagraphCxSpFirst style="MARGIN: 0in 0in 0pt 0.5in\; TEXT-INDENT: -0.25in\; mso-list: l1 level1 lfo1"><SPAN style="FONT-SIZE: 12pt\; LINE-HEIGHT: 105%\; mso-fareast-font-family: Calibri\; mso-bidi-font-family: Calibri"><SPAN style="mso-list: Ignore"><FONT face=Calibri>-</FONT><SPAN style="FONT: 7pt 'Times New Roman'">&nbsp\;&nbsp\;&nbsp\;&nbsp\;&nbsp\;&nbsp\;&nbsp\;&nbsp\;&nbsp\; </SPAN></SPAN></SPAN><SPAN style="FONT-SIZE: 12pt\; LINE-HEIGHT: 105%\; FONT-FAMILY: 'Helvetica'\,sans-serif">What triggers a Cal/OSHA Inspection\, what the look for\, and how to handle it<o:p></o:p></SPAN></P><P class=MsoListParagraphCxSpMiddle style="MARGIN: 0in 0in 0pt 0.5in\; TEXT-INDENT: -0.25in\; mso-list: l1 level1 lfo1"><SPAN style="FONT-SIZE: 12pt\; LINE-HEIGHT: 105%\; mso-fareast-font-family: Calibri\; mso-bidi-font-family: Calibri"><SPAN style="mso-list: Ignore"><FONT face=Calibri>-</FONT><SPAN style="FONT: 7pt 'Times New Roman'">&nbsp\;&nbsp\;&nbsp\;&nbsp\;&nbsp\;&nbsp\;&nbsp\;&nbsp\;&nbsp\; </SPAN></SPAN></SPAN><SPAN style="FONT-SIZE: 12pt\; LINE-HEIGHT: 105%\; FONT-FAMILY: 'Helvetica'\,sans-serif">How to keep in compliance and best represent your company in an audit<o:p></o:p></SPAN></P><P class=MsoListParagraphCxSpMiddle style="MARGIN: 0in 0in 0pt 0.5in\; TEXT-INDENT: -0.25in\; mso-list: l1 level1 lfo1"><SPAN style="FONT-SIZE: 12pt\; LINE-HEIGHT: 105%\; mso-fareast-font-family: Calibri\; mso-bidi-font-family: Calibri"><SPAN style="mso-list: Ignore"><FONT face=Calibri>-</FONT><SPAN style="FONT: 7pt 'Times New Roman'">&nbsp\;&nbsp\;&nbsp\;&nbsp\;&nbsp\;&nbsp\;&nbsp\;&nbsp\;&nbsp\; </SPAN></SPAN></SPAN><SPAN style="FONT-SIZE: 12pt\; LINE-HEIGHT: 105%\; FONT-FAMILY: 'Helvetica'\,sans-serif">Penalty Structure and Appeal Process<o:p></o:p></SPAN></P><P class=MsoListParagraphCxSpMiddle style="MARGIN: 0in 0in 0pt 0.5in\; TEXT-INDENT: -0.25in\; mso-list: l1 level1 lfo1"><SPAN style="FONT-SIZE: 12pt\; LINE-HEIGHT: 105%\; mso-fareast-font-family: Calibri\; mso-bidi-font-family: Calibri"><SPAN style="mso-list: Ignore"><FONT face=Calibri>-</FONT><SPAN style="FONT: 7pt 'Times New Roman'">&nbsp\;&nbsp\;&nbsp\;&nbsp\;&nbsp\;&nbsp\;&nbsp\;&nbsp\;&nbsp\; </SPAN></SPAN></SPAN><SPAN style="FONT-SIZE: 12pt\; LINE-HEIGHT: 105%\; FONT-FAMILY: 'Helvetica'\,sans-serif">Latest updates\, changes in requirements\, and current Emphasis Programs <o:p></o:p></SPAN></P><P class=MsoListParagraphCxSpLast style="MARGIN: 0in 0in 8pt 0.5in\; TEXT-INDENT: -0.25in\; mso-list: l1 level1 lfo1"><SPAN style="FONT-SIZE: 12pt\; LINE-HEIGHT: 105%\; mso-fareast-font-family: Calibri\; mso-bidi-font-family: Calibri"><SPAN style="mso-list: Ignore"><FONT face=Calibri>-</FONT><SPAN style="FONT: 7pt 'Times New Roman'">&nbsp\;&nbsp\;&nbsp\;&nbsp\;&nbsp\;&nbsp\;&nbsp\;&nbsp\;&nbsp\; </SPAN></SPAN></SPAN><SPAN style="FONT-SIZE: 12pt\; LINE-HEIGHT: 105%\; FONT-FAMILY: 'Helvetica'\,sans-serif">How to breeze through an OSHA inspection\, pass it with flying colors\, and help your company increase bottom line profits.<o:p></o:p></SPAN></P><P class=MsoNormal style="MARGIN: 0in 0in 0pt"><B><SPAN style="FONT-SIZE: 12pt\; FONT-FAMILY: 'Helvetica'\,sans-serif">What you will gain:<o:p></o:p></SPAN></B></P><P class=MsoListParagraphCxSpFirst style="MARGIN: 0in 0in 0pt 0.5in\; TEXT-INDENT: -0.25in\; mso-list: l1 level1 lfo1"><SPAN style="FONT-SIZE: 12pt\; LINE-HEIGHT: 105%\; mso-fareast-font-family: Calibri\; mso-bidi-font-family: Calibri"><SPAN style="mso-list: Ignore"><FONT face=Calibri>-</FONT><SPAN style="FONT: 7pt 'Times New Roman'">&nbsp\;&nbsp\;&nbsp\;&nbsp\;&nbsp\;&nbsp\;&nbsp\;&nbsp\;&nbsp\; </SPAN></SPAN></SPAN><SPAN style="FONT-SIZE: 12pt\; LINE-HEIGHT: 105%\; FONT-FAMILY: 'Helvetica'\,sans-serif">Certificate of completion from Morgan Safety<o:p></o:p></SPAN></P><P class=MsoListParagraphCxSpMiddle style="MARGIN: 0in 0in 0pt 0.5in\; TEXT-INDENT: -0.25in\; mso-list: l1 level1 lfo1"><SPAN style="FONT-SIZE: 12pt\; LINE-HEIGHT: 105%\; mso-fareast-font-family: Calibri\; mso-bidi-font-family: Calibri"><SPAN style="mso-list: Ignore"><FONT face=Calibri>-</FONT><SPAN style="FONT: 7pt 'Times New Roman'">&nbsp\;&nbsp\;&nbsp\;&nbsp\;&nbsp\;&nbsp\;&nbsp\;&nbsp\;&nbsp\; </SPAN></SPAN></SPAN><SPAN style="FONT-SIZE: 12pt\; LINE-HEIGHT: 105%\; FONT-FAMILY: 'Helvetica'\,sans-serif">Workbook and complete course content<o:p></o:p></SPAN></P><P class=MsoListParagraphCxSpLast style="MARGIN: 0in 0in 8pt 0.5in\; TEXT-INDENT: -0.25in\; mso-list: l1 level1 lfo1"><SPAN style="FONT-SIZE: 12pt\; LINE-HEIGHT: 105%\; mso-fareast-font-family: Calibri\; mso-bidi-font-family: Calibri"><SPAN style="mso-list: Ignore"><FONT face=Calibri>-</FONT><SPAN style="FONT: 7pt 'Times New Roman'">&nbsp\;&nbsp\;&nbsp\;&nbsp\;&nbsp\;&nbsp\;&nbsp\;&nbsp\;&nbsp\; </SPAN></SPAN></SPAN><SPAN style="FONT-SIZE: 12pt\; LINE-HEIGHT: 105%\; FONT-FAMILY: 'Helvetica'\,sans-serif">Door prizes and a chance to win your very own <U>deluxe 4-person 3-day emergency preparedness kit!</U> (Value of $249)<o:p></o:p></SPAN></P><P class=MsoNormal style="MARGIN: 0in 0in 0pt"><B><SPAN style="FONT-SIZE: 12pt\; FONT-FAMILY: 'Helvetica'\,sans-serif">RSVP by Friday\, 1/23/15:</SPAN></B><SPAN style="FONT-SIZE: 12pt\; FONT-FAMILY: 'Helvetica'\,sans-serif"><o:p></o:p></SPAN></P><P class=MsoListParagraph style="MARGIN: 0in 0in 8pt 39pt\; TEXT-INDENT: -0.25in\; mso-list: l0 level1 lfo2\; mso-add-space: auto"><SPAN style="FONT-SIZE: 12pt\; LINE-HEIGHT: 105%\; FONT-FAMILY: 'Helvetica'\,sans-serif\; mso-fareast-font-family: Helvetica\; mso-bidi-font-weight: bold"><SPAN style="mso-list: Ignore">-<SPAN style="FONT: 7pt 'Times New Roman'">&nbsp\;&nbsp\;&nbsp\;&nbsp\;&nbsp\;&nbsp\; </SPAN></SPAN></SPAN><SPAN style="FONT-SIZE: 12pt\; LINE-HEIGHT: 105%\; FONT-FAMILY: 'Helvetica'\,sans-serif">Call Linda at Nelson Staffing&nbsp\;&nbsp\; 209-575-7170&nbsp\;&nbsp\;&nbsp\;&nbsp\; <B><o:p></o:p></B></SPAN></P></DIV>
LOCATION:Modesto Double Tree
UID:e.2695.498
SEQUENCE:3
DTSTAMP:20260422T104116Z
URL:https://business.modchamber.org/events/details/cal-osha-compliance-2015-02-06-2015-498
END:VEVENT

END:VCALENDAR
