BEGIN:VCALENDAR
VERSION:2.0
PRODID:-//ChamberMaster//Event Calendar 2.0//EN
METHOD:PUBLISH
X-PUBLISHED-TTL:P3D
REFRESH-INTERVAL:P3D
CALSCALE:GREGORIAN
BEGIN:VEVENT
DTSTART:20140320T190000Z
DTEND:20140320T203000Z
X-MICROSOFT-CDO-ALLDAYEVENT:FALSE
SUMMARY:CAA Modesto Luncheon
DESCRIPTION:1.	Effective communication w/the applicant\n\n2.	Preparing a written screening criteria\n\n3.	Reviewof current tenant screening forms\n\n4.	Identity theft\, red-flag rule\n\n5.	Dealing with address discrepancies on a report\n\n6.	How to store reports & how long to keep on file\n\n7.	Non-traditionalconsumers w/no social security number
X-ALT-DESC;FMTTYPE=text/html:1.	Effective communication w/the applicant\n\n2.	Preparing a written screening criteria\n\n3.	Reviewof current tenant screening forms\n\n4.	Identity theft\, red-flag rule\n\n5.	Dealing with address discrepancies on a report\n\n6.	How to store reports & how long to keep on file\n\n7.	Non-traditionalconsumers w/no social security number\n
LOCATION:Park Inn by Radisson 1720 Sisk Road Modesto\, CA 95350
UID:e.2695.369
SEQUENCE:3
DTSTAMP:20260423T032106Z
URL:https://business.modchamber.org/events/details/caa-modesto-luncheon-03-20-2014-369
END:VEVENT

END:VCALENDAR
