BEGIN:VCALENDAR
VERSION:2.0
PRODID:-//ChamberMaster//Event Calendar 2.0//EN
METHOD:PUBLISH
X-PUBLISHED-TTL:P3D
REFRESH-INTERVAL:P3D
CALSCALE:GREGORIAN
BEGIN:VEVENT
DTSTART:20140522T203000Z
DTEND:20140522T233000Z
X-MICROSOFT-CDO-ALLDAYEVENT:FALSE
SUMMARY:CAA Modesto Landlord Education
DESCRIPTION:Learn how to handle problem tenants and tenants who make partial rent payments\, pay late\, or not atall.  Learn about proper selection\, use and preparation and service of various notices.
X-ALT-DESC;FMTTYPE=text/html:Learn how to handle problem tenants and tenants who make partial rent payments\, pay late\, or not atall.  Learn about proper selection\, use and preparation and service of various notices.
LOCATION:Clarion Hotel Conference Center 1612 Sisk Road Modesto\, CA 95350
UID:e.2695.427
SEQUENCE:3
DTSTAMP:20260423T002813Z
URL:https://business.modchamber.org/events/details/caa-modesto-landlord-education-05-22-2014-427
END:VEVENT

END:VCALENDAR
