BEGIN:VCALENDAR
VERSION:2.0
PRODID:-//ChamberMaster//Event Calendar 2.0//EN
METHOD:PUBLISH
X-PUBLISHED-TTL:P3D
REFRESH-INTERVAL:P3D
CALSCALE:GREGORIAN
BEGIN:VEVENT
DTSTART:20150826T023000Z
DTEND:20150825T070000Z
X-MICROSOFT-CDO-ALLDAYEVENT:FALSE
SUMMARY:Byrne & Kelly
DESCRIPTION:These two charmers were part of the Celtic Thunder troupe that dazzled a sold out Gallo Center back in March. Neil Byrne and Ryan Kelly have also been touring together for three years with a show called “Acoustic by Candlelight\,” which evolved into their Billboard World Album Chart #1 "Acoustically Irish" (2013). The Gallo Center received a lot of recommendations for this show\, so come out and see why the Irish Music Association of America awarded Neil and Ryan "Best Duo" in a Concert\, Pub or Festival and "Best New Album" in 2013. They are electric! \n\nVIP\nByrne and Kelly Meet-and-Greet Experience! \n\nA special\, limited allotment of $55 tickets that include a meet-and-greet experience with Neil Byrne and Ryan Kelly is available. They cannot be purchased online. Please call (209) 338-2100 or visit the Gallo Center ticket office in downtown Modesto for more information or to purchase these tickets.
X-ALT-DESC;FMTTYPE=text/html:These two charmers were part of the Celtic Thunder troupe that dazzled a sold out Gallo Center back in March. Neil Byrne and Ryan Kelly have also been touring together for three years with a show called “Acoustic by Candlelight\,” which evolved into their Billboard World Album Chart #1 "Acoustically Irish" (2013). The Gallo Center received a lot of recommendations for this show\, so come out and see why the Irish Music Association of America awarded Neil and Ryan "Best Duo" in a Concert\, Pub or Festival and "Best New Album" in 2013. They are electric! \n\nVIP\nByrne and Kelly Meet-and-Greet Experience! \n\nA special\, limited allotment of $55 tickets that include a meet-and-greet experience with Neil Byrne and Ryan Kelly is available. They cannot be purchased online. Please call (209) 338-2100 or visit the Gallo Center ticket office in downtown Modesto for more information or to purchase these tickets.
LOCATION:Gallo Center 1000 I St Modesto\, CA 95354
UID:e.2695.1130
SEQUENCE:3
DTSTAMP:20260420T003051Z
URL:https://business.modchamber.org/events/details/byrne-kelly-08-25-2015-1130
END:VEVENT

END:VCALENDAR
