BEGIN:VCALENDAR
VERSION:2.0
PRODID:-//ChamberMaster//Event Calendar 2.0//EN
METHOD:PUBLISH
X-PUBLISHED-TTL:P3D
REFRESH-INTERVAL:P3D
CALSCALE:GREGORIAN
BEGIN:VEVENT
DTSTART:20150927T200000Z
DTEND:20150928T010000Z
X-MICROSOFT-CDO-ALLDAYEVENT:FALSE
SUMMARY:Butte Fire Donation Concert
DESCRIPTION:Helping those in need ! This is a FREE Donation Concert for the Butte Fire Victims. All AGES. We just ask that you bring a donation to help. The donations will be delivered on Monday to Calaveras County. Please\, READ CAREFULLY what is NEEDED. SPREAD THE WORD & SHARE. We are a community of giving lets give back to other communities. \nHere is another way you can help.\nCalaveras Community Foundation Disaster Relief is a non-profit 501(c) tax ID # 68-0472056. The Foundation is built focusing on post event(s) recovery for the community. \n\nCash or Check donations may be sent to the Foundation at P.O.Box 1436 Angeles Camp Ca 95222 or by using the PayPal button on the website www.calaverascommunityfoundation.org Please\, indicate "DRF" on your checks or Paypal in the comment box. For further info contact the Foundation Ms Martina Callaway at 209*736*1845.\nContact :	\nPhone :	209-736-1845.\nEmail :	\nWeb Site :	www.calaverascommunityfoundation.org
X-ALT-DESC;FMTTYPE=text/html:Helping those in need ! This is a FREE Donation Concert for the Butte Fire Victims. All AGES. We just ask that you bring a donation to help. The donations will be delivered on Monday to Calaveras County. Please\, READ CAREFULLY what is NEEDED. SPREAD THE WORD & SHARE. We are a community of giving lets give back to other communities. \nHere is another way you can help.\nCalaveras Community Foundation Disaster Relief is a non-profit 501(c) tax ID # 68-0472056. The Foundation is built focusing on post event(s) recovery for the community. \n\nCash or Check donations may be sent to the Foundation at P.O.Box 1436 Angeles Camp Ca 95222 or by using the PayPal button on the website www.calaverascommunityfoundation.org Please\, indicate "DRF" on your checks or Paypal in the comment box. For further info contact the Foundation Ms Martina Callaway at 209*736*1845.\nContact :	\nPhone :	209-736-1845.\nEmail :	\nWeb Site :	www.calaverascommunityfoundation.org
LOCATION:Minnie's Restaurant 107 McHenry Ave Modesto\, CA 95354
UID:e.2695.1204
SEQUENCE:3
DTSTAMP:20260420T003312Z
URL:https://business.modchamber.org/events/details/butte-fire-donation-concert-09-27-2015-1204
END:VEVENT

END:VCALENDAR
