BEGIN:VCALENDAR
VERSION:2.0
PRODID:-//ChamberMaster//Event Calendar 2.0//EN
METHOD:PUBLISH
X-PUBLISHED-TTL:P3D
REFRESH-INTERVAL:P3D
CALSCALE:GREGORIAN
BEGIN:VEVENT
DTSTART:20110315T070000Z
DTEND:20110615T070000Z
X-MICROSOFT-CDO-ALLDAYEVENT:FALSE
SUMMARY:Business to BusinessTrade Show 2011
DESCRIPTION:
X-ALT-DESC;FMTTYPE=text/html:
LOCATION:
UID:e.2695.169
SEQUENCE:3
DTSTAMP:20260425T101945Z
URL:https://business.modchamber.org/events/details/business-to-businesstrade-show-2011-03-15-2011-169
END:VEVENT

END:VCALENDAR
