BEGIN:VCALENDAR
VERSION:2.0
PRODID:-//ChamberMaster//Event Calendar 2.0//EN
METHOD:PUBLISH
X-PUBLISHED-TTL:P3D
REFRESH-INTERVAL:P3D
CALSCALE:GREGORIAN
BEGIN:VEVENT
DTSTART:20130620T230000Z
DTEND:20130621T020000Z
X-MICROSOFT-CDO-ALLDAYEVENT:FALSE
SUMMARY:Business to Business Trade Show 2013
DESCRIPTION:Boost your business. Gain new customers. In its 9th year\, the Annual Business-to-Business Tradeshow opens new markets for your business. \n\nThe tradeshow is exclusive to Chamber member vendors\, yet is marketed to a broad audience. It is especially beneficial to new members of the Chamber\, who join existing members who exhibit year-after-year at this anticipated event. Take advantage of this high profile\, high demand event.
X-ALT-DESC;FMTTYPE=text/html:Boost your business. Gain new customers. In its 9th year\, the Annual Business-to-Business Tradeshow opens new markets for your business. \n\nThe tradeshow is exclusive to Chamber member vendors\, yet is marketed to a broad audience. It is especially beneficial to new members of the Chamber\, who join existing members who exhibit year-after-year at this anticipated event. Take advantage of this high profile\, high demand event. \n \n
LOCATION:Modesto Centre Plaza 10th & K Street Modesto\, CA 95354
UID:e.2695.253
SEQUENCE:3
DTSTAMP:20260423T202558Z
URL:https://business.modchamber.org/events/details/business-to-business-trade-show-2013-06-20-2013-253
END:VEVENT

END:VCALENDAR
