BEGIN:VCALENDAR
VERSION:2.0
PRODID:-//ChamberMaster//Event Calendar 2.0//EN
METHOD:PUBLISH
X-PUBLISHED-TTL:P3D
REFRESH-INTERVAL:P3D
CALSCALE:GREGORIAN
BEGIN:VEVENT
DTSTART:20120627T150000Z
DTEND:20120628T000000Z
X-MICROSOFT-CDO-ALLDAYEVENT:FALSE
SUMMARY:Business to Business Trade Show 2012
DESCRIPTION:
X-ALT-DESC;FMTTYPE=text/html:
LOCATION:
UID:e.2695.193
SEQUENCE:3
DTSTAMP:20260424T164811Z
URL:https://business.modchamber.org/events/details/business-to-business-trade-show-2012-06-27-2012-193
END:VEVENT

END:VCALENDAR
