BEGIN:VCALENDAR
VERSION:2.0
PRODID:-//ChamberMaster//Event Calendar 2.0//EN
METHOD:PUBLISH
X-PUBLISHED-TTL:P3D
REFRESH-INTERVAL:P3D
CALSCALE:GREGORIAN
BEGIN:VEVENT
DTSTART:20160510T183000Z
DTEND:20160510T193000Z
X-MICROSOFT-CDO-ALLDAYEVENT:FALSE
SUMMARY:Business Lunch - SCORE
DESCRIPTION:Please join us this month for a Business Lunch with SCORE This event will take the place of our Business After Hours for the month of May   “The Best Kept Secret In The Central Valley” UNTIL NOW!  SCORE is a national organization of experienced business leaders and managers giving their time and energy to assist local small businesses. We are affiliated with the Small Business Administration and believe that small business is the backbone of the economy. Our members are all volunteers operating in chapters such as your local Modesto Merced Chapter. We provide confidential mentoring at no cost to you. We also provide educational and timely workshops\, roundtable discussion groups\, and guest speakers at a very low cost. Whether you are thinking of starting\, or have just started a business\, we can help. We also help established businesses. For more information\, please visit our website at www.score.org .  You can schedule a local session from the website\, or you can call the Modesto Chamber of Commerce at (209) 557-5757 to make an appointment.
X-ALT-DESC;FMTTYPE=text/html:<SPAN style="DISPLAY: inline! important\; FLOAT: none\; WORD-SPACING: 0px\; FONT: 13px/23px Arial\, Helvetica\, Tahoma\, san-serif\; TEXT-TRANSFORM: none\; COLOR: rgb(0\,0\,0)\; TEXT-INDENT: 0px\; WHITE-SPACE: normal\; LETTER-SPACING: normal\; BACKGROUND-COLOR: rgb(255\,255\,255)\; orphans: auto\; widows: auto\; -webkit-text-stroke-width: 0px"><FONT face="Times New Roman"><P class=MsoNormal style="MARGIN: 0in 0in 0pt\; TEXT-ALIGN: center" align=left><FONT size=+0><FONT color=#ff0000 size=2><STRONG>Please join us this month for a Business Lunch with SCORE </STRONG></FONT></FONT></P><P class=MsoNormal style="MARGIN: 0in 0in 0pt\; TEXT-ALIGN: center" align=left><FONT size=+0><FONT color=#ff0000 size=2><STRONG>This event will take the place of our Business After Hours for the month of May </STRONG></FONT></FONT></P><P class=MsoNormal style="MARGIN: 0in 0in 0pt\; TEXT-ALIGN: center" align=left><FONT face=Calibri size=3></FONT>&nbsp\;</P><P class=MsoNormal style="MARGIN: 0in 0in 0pt\; TEXT-ALIGN: center" align=left><FONT face=Calibri size=3></FONT>&nbsp\;</P><P class=MsoNormal style="MARGIN: 0in 0in 0pt\; TEXT-ALIGN: center" align=center><FONT size=3><FONT face=Calibri>“The Best Kept Secret In The Central Valley”<?xml:namespace prefix = o ns = "urn:schemas-microsoft-com:office:office" /><o:p></o:p></FONT></FONT></P><P class=MsoNormal style="MARGIN: 0in 0in 0pt\; TEXT-ALIGN: center" align=center><o:p><FONT face=Calibri size=3>&nbsp\;</FONT></o:p></P><P class=MsoNormal style="MARGIN: 0in 0in 0pt\; TEXT-ALIGN: center" align=center><FONT size=3><FONT face=Calibri>UNTIL NOW!<o:p></o:p></FONT></FONT></P><P class=MsoNormal style="MARGIN: 0in 0in 0pt"><FONT size=3><FONT face=Calibri><SPAN style="mso-spacerun: yes">&nbsp\; </SPAN><o:p></o:p></FONT></FONT></P><P class=MsoNormal style="MARGIN: 0in 0in 0pt"><FONT size=3><FONT face=Calibri>SCORE is a national organization of experienced business leaders and managers giving their time and energy to assist local small businesses. We are affiliated with the Small Business Administration and believe that small business is the backbone of the economy. <o:p></o:p></FONT></FONT></P><P class=MsoNormal style="MARGIN: 0in 0in 0pt"><FONT size=3><FONT face=Calibri>Our members are all volunteers operating in chapters such as your local Modesto Merced Chapter. We provide confidential mentoring at no cost to you. We also provide educational and timely workshops\, roundtable discussion groups\, and guest speakers at a very low cost. <o:p></o:p></FONT></FONT></P><P class=MsoNormal style="MARGIN: 0in 0in 0pt"><FONT size=3><FONT face=Calibri>Whether you are thinking of starting\, or have just started a business\, we can help. We also help established businesses. For more information\, please visit our website at www.score.org .<SPAN style="mso-spacerun: yes">&nbsp\; </SPAN>You can schedule a local session from the website\, or you can call the Modesto Chamber of Commerce at (209) 557-5757 to make an appointment.</FONT></FONT></P><P class=MsoNormal style="MARGIN: 0in 0in 0pt"><FONT size=3><FONT face=Calibri></FONT></FONT>&nbsp\;</P><P class=MsoNormal style="MARGIN: 0in 0in 0pt"><FONT size=3><FONT face=Calibri></FONT></FONT>&nbsp\;</P><P class=MsoNormal style="MARGIN: 0in 0in 0pt"><FONT size=3><FONT face=Calibri><o:p></o:p></FONT></FONT>&nbsp\;</P></FONT></SPAN>
LOCATION:Modesto Chamber of Commerce 1114 J Street Modesto\, CA 953540930
UID:e.2695.1682
SEQUENCE:3
DTSTAMP:20260419T141053Z
URL:https://business.modchamber.org/events/details/business-lunch-score-05-10-2016-1682
END:VEVENT

END:VCALENDAR
