BEGIN:VCALENDAR
VERSION:2.0
PRODID:-//ChamberMaster//Event Calendar 2.0//EN
METHOD:PUBLISH
X-PUBLISHED-TTL:P3D
REFRESH-INTERVAL:P3D
CALSCALE:GREGORIAN
BEGIN:VEVENT
DTSTART:20150219T210000Z
DTEND:20150220T020000Z
X-MICROSOFT-CDO-ALLDAYEVENT:FALSE
SUMMARY:Business Expo 2015
DESCRIPTION:Our 10th Annual Business Expo will follow immediately after our Annual State of Region Economic Development Conference. This event markets to a broad audience\, so consider taking advantage of this high profile\, high demand expo.$250 for a Booth/Member $350 for a Booth/Non-Member
X-ALT-DESC;FMTTYPE=text/html:<P>Our 10th Annual Business Expo will follow immediately after our Annual State of Region Economic Development Conference. This event markets to a broad audience\, so consider taking advantage of this high profile\, high demand expo.</P><P>$250&nbsp\;for a Booth/Member </P><P>$350 for a Booth/Non-Member</P>
LOCATION:Modesto Centre Plaza 10th & K Street Modesto\, CA 95354
UID:e.2695.555
SEQUENCE:3
DTSTAMP:20260422T104411Z
URL:https://business.modchamber.org/events/details/business-expo-2015-02-19-2015-555
END:VEVENT

END:VCALENDAR
