BEGIN:VCALENDAR
VERSION:2.0
PRODID:-//ChamberMaster//Event Calendar 2.0//EN
METHOD:PUBLISH
X-PUBLISHED-TTL:P3D
REFRESH-INTERVAL:P3D
CALSCALE:GREGORIAN
BEGIN:VEVENT
DTSTART:20141009T143000Z
DTEND:20141009T153000Z
X-MICROSOFT-CDO-ALLDAYEVENT:FALSE
SUMMARY:Business Before Hours - Toni & Guy Hairdressing Academy
DESCRIPTION:For talented and passionate individuals in search of a cosmetology school with a top-notch education and friendly atmosphere\, our TONI&GUY® Hairdressing Academy in Modesto\, CA\, is the right place for you and your future career.
X-ALT-DESC;FMTTYPE=text/html:<H2 style="BORDER-RIGHT: 0px\; PADDING-RIGHT: 0px\; BORDER-TOP: 0px\; PADDING-LEFT: 0px\; FONT-SIZE: 18pt\; PADDING-BOTTOM: 0px\; MARGIN: 0px\; WORD-SPACING: 0px\; VERTICAL-ALIGN: baseline\; TEXT-TRANSFORM: none\; BORDER-LEFT: 0px\; COLOR: rgb(0\,0\,0)\; TEXT-INDENT: 0px\; PADDING-TOP: 0px\; BORDER-BOTTOM: 0px\; FONT-STYLE: normal\; FONT-FAMILY: mont-bold\, sans-serif\; WHITE-SPACE: normal\; LETTER-SPACING: normal\; FONT-VARIANT: normal\; outline: 0px\; orphans: auto\; widows: auto\; -webkit-text-stroke-width: 0px">For talented and passionate individuals in search of a cosmetology school with a top-notch education and friendly atmosphere\, our TONI&amp\;GUY® Hairdressing Academy in Modesto\, CA\, is the right place for you and your future career.</H2>
LOCATION:Toni & Guy Hair Dressing Academy 3600 Sisk Road\, Suite 5E Modesto\, CA 953560548
UID:e.2695.566
SEQUENCE:3
DTSTAMP:20260422T165253Z
URL:https://business.modchamber.org/events/details/business-before-hours-toni-guy-hairdressing-academy-10-09-2014-566
END:VEVENT

END:VCALENDAR
