BEGIN:VCALENDAR
VERSION:2.0
PRODID:-//ChamberMaster//Event Calendar 2.0//EN
METHOD:PUBLISH
X-PUBLISHED-TTL:P3D
REFRESH-INTERVAL:P3D
CALSCALE:GREGORIAN
BEGIN:VEVENT
DTSTART:20160512T143000Z
DTEND:20160512T153000Z
X-MICROSOFT-CDO-ALLDAYEVENT:FALSE
SUMMARY:Business Before Hours - San Joaquin Valley College
DESCRIPTION:Everyone is looking for a new way to promote their business.  The Chamber’s Business Before Hours and Business After Hours are the perfect way to showcase your business to over 100 members in a very short time.  When you host either of these two well attended\, monthly events you have a unique opportunity to introduce your organization to business professionals who may not be familiar with who you are and what you do\, but who may be looking for your goods or services.  Business Before and After Hours are not only great networking opportunities\, but they are a perfect way to bring business to your door.\nCall Natalie Nielsen at 209.577.5757 to get your date reserved.
X-ALT-DESC;FMTTYPE=text/html:<P><SPAN style="DISPLAY: inline! important\; FLOAT: none\; WORD-SPACING: 0px\; FONT: 13px/23px Arial\, Helvetica\, Tahoma\, san-serif\; TEXT-TRANSFORM: none\; COLOR: rgb(0\,0\,0)\; TEXT-INDENT: 0px\; WHITE-SPACE: normal\; LETTER-SPACING: normal\; BACKGROUND-COLOR: rgb(255\,255\,255)\; orphans: auto\; widows: auto\; -webkit-text-stroke-width: 0px">Everyone is looking for a new way to promote their business. &nbsp\;The Chamber’s Business Before Hours and Business After Hours are the perfect way to showcase your business to over 100 members in a very short time. &nbsp\;When you host either of these two well attended\, monthly events you have a unique opportunity to introduce your organization to business professionals who may not be familiar with who you are and what you do\, but who may be looking for your goods or services. &nbsp\;Business Before and After Hours are not only great networking opportunities\, but they are a perfect way to bring business to your door.</SPAN><BR style="WORD-SPACING: 0px\; FONT: 13px/23px Arial\, Helvetica\, Tahoma\, san-serif\; TEXT-TRANSFORM: none\; COLOR: rgb(0\,0\,0)\; TEXT-INDENT: 0px\; WHITE-SPACE: normal\; LETTER-SPACING: normal\; BACKGROUND-COLOR: rgb(255\,255\,255)\; orphans: auto\; widows: auto\; -webkit-text-stroke-width: 0px"><SPAN style="DISPLAY: inline! important\; FLOAT: none\; WORD-SPACING: 0px\; FONT: 13px/23px Arial\, Helvetica\, Tahoma\, san-serif\; TEXT-TRANSFORM: none\; COLOR: rgb(0\,0\,0)\; TEXT-INDENT: 0px\; WHITE-SPACE: normal\; LETTER-SPACING: normal\; BACKGROUND-COLOR: rgb(255\,255\,255)\; orphans: auto\; widows: auto\; -webkit-text-stroke-width: 0px">Call<SPAN class=Apple-converted-space>&nbsp\;</SPAN></SPAN><SPAN style="BORDER-RIGHT: 0px\; PADDING-RIGHT: 0px\; BORDER-TOP: 0px\; PADDING-LEFT: 0px\; BACKGROUND: rgb(255\,255\,255)\; PADDING-BOTTOM: 0px\; MARGIN: 0px\; WORD-SPACING: 0px\; FONT: 13px/23px Arial\, Helvetica\, Tahoma\, san-serif\; VERTICAL-ALIGN: baseline\; TEXT-TRANSFORM: none\; BORDER-LEFT: 0px\; COLOR: rgb(0\,0\,255)\; TEXT-INDENT: 0px\; PADDING-TOP: 0px\; BORDER-BOTTOM: 0px\; WHITE-SPACE: normal\; LETTER-SPACING: normal\; TEXT-DECORATION: underline\; orphans: auto\; widows: auto\; -webkit-text-stroke-width: 0px"><A style="BORDER-RIGHT: 0px\; PADDING-RIGHT: 0px\; BORDER-TOP: 0px\; PADDING-LEFT: 0px\; BACKGROUND: none transparent scroll repeat 0% 0%\; PADDING-BOTTOM: 0px\; MARGIN: 0px\; VERTICAL-ALIGN: baseline\; BORDER-LEFT: 0px\; COLOR: rgb(0\,43\,127)\; PADDING-TOP: 0px\; BORDER-BOTTOM: 0px\; TEXT-DECORATION: none" href="mailto:LJost@ModChamber.org"><SPAN style="BORDER-RIGHT: 0px\; PADDING-RIGHT: 0px\; BORDER-TOP: 0px\; PADDING-LEFT: 0px\; BACKGROUND: none transparent scroll repeat 0% 0%\; PADDING-BOTTOM: 0px\; MARGIN: 0px\; VERTICAL-ALIGN: baseline\; BORDER-LEFT: 0px\; COLOR: rgb(0\,0\,255)\; PADDING-TOP: 0px\; BORDER-BOTTOM: 0px\; TEXT-DECORATION: underline">Natalie</SPAN></A> Nielsen</SPAN><SPAN style="DISPLAY: inline! important\; FLOAT: none\; WORD-SPACING: 0px\; FONT: 13px/23px Arial\, Helvetica\, Tahoma\, san-serif\; TEXT-TRANSFORM: none\; COLOR: rgb(0\,0\,0)\; TEXT-INDENT: 0px\; WHITE-SPACE: normal\; LETTER-SPACING: normal\; BACKGROUND-COLOR: rgb(255\,255\,255)\; orphans: auto\; widows: auto\; -webkit-text-stroke-width: 0px">&nbsp\;at 209.577.5757 to get your date reserved.</SPAN></P><P>&nbsp\;</P><P>&nbsp\;</P>
LOCATION:San Joaquin Valley College San Joaquin Valley College Salida\, CA 95368
UID:e.2695.1681
SEQUENCE:3
DTSTAMP:20260419T125140Z
URL:https://business.modchamber.org/events/details/business-before-hours-san-joaquin-valley-college-05-12-2016-1681
END:VEVENT

END:VCALENDAR
