BEGIN:VCALENDAR
VERSION:2.0
PRODID:-//ChamberMaster//Event Calendar 2.0//EN
METHOD:PUBLISH
X-PUBLISHED-TTL:P3D
REFRESH-INTERVAL:P3D
CALSCALE:GREGORIAN
BEGIN:VEVENT
DTSTART:20141204T153000Z
DTEND:20141204T163000Z
X-MICROSOFT-CDO-ALLDAYEVENT:FALSE
SUMMARY:Business Before Hours - Modesto Gospel Mission
DESCRIPTION:Everyone is looking for a new way to promote their business.  The Chamber’s Business Before Hours and Business After Hours are the perfect way to showcase your business to over 100 members in a very short time.  When you host either of these two well attended\, monthly events you have a unique opportunity to introduce your organization to business professionals who may not be familiar with who you are and what you do\, but who may be looking for your goods or services.  Business Before and After Hours are not only great networking opportunities\, but they are a perfect way to bring business to your door.\nCall Lynda Jost at 209.577.5757 to get your date reserved.Host 75-100 Chamber colleagues in your place of business before they go to work. Let them know what you do\, sell or create. Whet their appetite with information about your business in an inviting environment. Next time they come back\, they will be your customer. Create a long lasting business relationship at 7:30 a.m. the second Thursday of the month.Sponsorship Investment: $150Sponsorship Includes:Company logo on invitation flyer tailored to your organizationCompany name on all press releasesPre-event announcements at all Chamber eventsCompany name included on Chamber website announcementsCompany name and logo included on weekly Chamber HappeningsThe host of each Business Before Hours is responsible for providing:Location for event\, large enough to accommodate 80 attendeesContinental breakfastDoor prizes
X-ALT-DESC;FMTTYPE=text/html:<DIV style="FONT-FAMILY: Arial"><P style="BORDER-RIGHT: 0px\; PADDING-RIGHT: 0px\; BORDER-TOP: 0px\; PADDING-LEFT: 0px\; BACKGROUND: rgb(255\,255\,255)\; PADDING-BOTTOM: 0px\; MARGIN: 0px 0px 18px\; WORD-SPACING: 0px\; FONT: 13px/23px Arial\, Helvetica\, Tahoma\, san-serif\; VERTICAL-ALIGN: baseline\; TEXT-TRANSFORM: none\; BORDER-LEFT: 0px\; COLOR: rgb(0\,0\,0)\; TEXT-INDENT: 0px\; PADDING-TOP: 0px\; BORDER-BOTTOM: 0px\; WHITE-SPACE: normal\; LETTER-SPACING: normal\; orphans: auto\; widows: auto\; -webkit-text-stroke-width: 0px">Everyone is looking for a new way to promote their business. &nbsp\;The Chamber’s Business Before Hours and Business After Hours are the perfect way to showcase your business to over 100 members in a very short time. &nbsp\;When you host either of these two well attended\, monthly events you have a unique opportunity to introduce your organization to business professionals who may not be familiar with who you are and what you do\, but who may be looking for your goods or services. &nbsp\;Business Before and After Hours are not only great networking opportunities\, but they are a perfect way to bring business to your door.<BR>Call<SPAN class=Apple-converted-space>&nbsp\;</SPAN><SPAN style="BORDER-RIGHT: 0px\; PADDING-RIGHT: 0px\; BORDER-TOP: 0px\; PADDING-LEFT: 0px\; BACKGROUND: none transparent scroll repeat 0% 0%\; PADDING-BOTTOM: 0px\; MARGIN: 0px\; VERTICAL-ALIGN: baseline\; BORDER-LEFT: 0px\; COLOR: rgb(0\,0\,255)\; PADDING-TOP: 0px\; BORDER-BOTTOM: 0px\; TEXT-DECORATION: underline"><A style="BORDER-RIGHT: 0px\; PADDING-RIGHT: 0px\; BORDER-TOP: 0px\; PADDING-LEFT: 0px\; BACKGROUND: none transparent scroll repeat 0% 0%\; PADDING-BOTTOM: 0px\; MARGIN: 0px\; VERTICAL-ALIGN: baseline\; BORDER-LEFT: 0px\; COLOR: rgb(0\,43\,127)\; PADDING-TOP: 0px\; BORDER-BOTTOM: 0px\; TEXT-DECORATION: none" href="mailto:RKeenan@ModChamber.org"><SPAN style="BORDER-RIGHT: 0px\; PADDING-RIGHT: 0px\; BORDER-TOP: 0px\; PADDING-LEFT: 0px\; BACKGROUND: none transparent scroll repeat 0% 0%\; PADDING-BOTTOM: 0px\; MARGIN: 0px\; VERTICAL-ALIGN: baseline\; BORDER-LEFT: 0px\; COLOR: rgb(0\,0\,255)\; PADDING-TOP: 0px\; BORDER-BOTTOM: 0px\; TEXT-DECORATION: underline">Lynda Jost</SPAN></A></SPAN>&nbsp\;at 209.577.5757 to get your date reserved.</P><P style="BORDER-RIGHT: 0px\; PADDING-RIGHT: 0px\; BORDER-TOP: 0px\; PADDING-LEFT: 0px\; BACKGROUND: rgb(255\,255\,255)\; PADDING-BOTTOM: 0px\; MARGIN: 0px 0px 18px\; WORD-SPACING: 0px\; FONT: 13px/23px Arial\, Helvetica\, Tahoma\, san-serif\; VERTICAL-ALIGN: baseline\; TEXT-TRANSFORM: none\; BORDER-LEFT: 0px\; COLOR: rgb(0\,0\,0)\; TEXT-INDENT: 0px\; PADDING-TOP: 0px\; BORDER-BOTTOM: 0px\; WHITE-SPACE: normal\; LETTER-SPACING: normal\; orphans: auto\; widows: auto\; -webkit-text-stroke-width: 0px">Host 75-100 Chamber colleagues in your place of business before they go to work. Let them know what you do\, sell or create. Whet their appetite with information about your business in an inviting environment. Next time they come back\, they will be your customer. Create a long lasting business relationship at 7:30 a.m. the second Thursday of the month.</P><P style="BORDER-RIGHT: 0px\; PADDING-RIGHT: 0px\; BORDER-TOP: 0px\; PADDING-LEFT: 0px\; BACKGROUND: rgb(255\,255\,255)\; PADDING-BOTTOM: 0px\; MARGIN: 0px 0px 18px\; WORD-SPACING: 0px\; FONT: 13px/23px Arial\, Helvetica\, Tahoma\, san-serif\; VERTICAL-ALIGN: baseline\; TEXT-TRANSFORM: none\; BORDER-LEFT: 0px\; COLOR: rgb(0\,0\,0)\; TEXT-INDENT: 0px\; PADDING-TOP: 0px\; BORDER-BOTTOM: 0px\; WHITE-SPACE: normal\; LETTER-SPACING: normal\; orphans: auto\; widows: auto\; -webkit-text-stroke-width: 0px"><STRONG style="BORDER-RIGHT: 0px\; PADDING-RIGHT: 0px\; BORDER-TOP: 0px\; PADDING-LEFT: 0px\; FONT-WEIGHT: bold\; BACKGROUND: none transparent scroll repeat 0% 0%\; PADDING-BOTTOM: 0px\; MARGIN: 0px\; VERTICAL-ALIGN: baseline\; BORDER-LEFT: 0px\; PADDING-TOP: 0px\; BORDER-BOTTOM: 0px">Sponsorship Investment:</STRONG><SPAN class=Apple-converted-space>&nbsp\;</SPAN>$150</P><P style="BORDER-RIGHT: 0px\; PADDING-RIGHT: 0px\; BORDER-TOP: 0px\; PADDING-LEFT: 0px\; BACKGROUND: rgb(255\,255\,255)\; PADDING-BOTTOM: 0px\; MARGIN: 0px 0px 18px\; WORD-SPACING: 0px\; FONT: 13px/23px Arial\, Helvetica\, Tahoma\, san-serif\; VERTICAL-ALIGN: baseline\; TEXT-TRANSFORM: none\; BORDER-LEFT: 0px\; COLOR: rgb(0\,0\,0)\; TEXT-INDENT: 0px\; PADDING-TOP: 0px\; BORDER-BOTTOM: 0px\; WHITE-SPACE: normal\; LETTER-SPACING: normal\; orphans: auto\; widows: auto\; -webkit-text-stroke-width: 0px"><STRONG style="BORDER-RIGHT: 0px\; PADDING-RIGHT: 0px\; BORDER-TOP: 0px\; PADDING-LEFT: 0px\; FONT-WEIGHT: bold\; BACKGROUND: none transparent scroll repeat 0% 0%\; PADDING-BOTTOM: 0px\; MARGIN: 0px\; VERTICAL-ALIGN: baseline\; BORDER-LEFT: 0px\; PADDING-TOP: 0px\; BORDER-BOTTOM: 0px">Sponsorship Includes:</STRONG></P><UL style="BORDER-RIGHT: 0px\; PADDING-RIGHT: 0px\; BORDER-TOP: 0px\; PADDING-LEFT: 0px\; BACKGROUND: rgb(255\,255\,255)\; PADDING-BOTTOM: 0px\; MARGIN: 0px 0px 0px 15px\; WORD-SPACING: 0px\; FONT: 13px/23px Arial\, Helvetica\, Tahoma\, san-serif\; VERTICAL-ALIGN: baseline\; TEXT-TRANSFORM: none\; BORDER-LEFT: 0px\; COLOR: rgb(0\,0\,0)\; TEXT-INDENT: 0px\; PADDING-TOP: 0px\; BORDER-BOTTOM: 0px\; WHITE-SPACE: normal\; LIST-STYLE-TYPE: disc\; LETTER-SPACING: normal\; orphans: auto\; widows: auto\; -webkit-text-stroke-width: 0px"><LI style="BORDER-RIGHT: 0px\; PADDING-RIGHT: 0px\; BORDER-TOP: 0px\; PADDING-LEFT: 0px\; FONT-WEIGHT: normal\; FONT-SIZE: 9pt\; BACKGROUND: none transparent scroll repeat 0% 0%\; PADDING-BOTTOM: 0px\; MARGIN: 0px\; VERTICAL-ALIGN: baseline\; BORDER-LEFT: 0px\; PADDING-TOP: 0px\; BORDER-BOTTOM: 0px\; FONT-FAMILY: Verdana"><SPAN style="BORDER-RIGHT: 0px\; PADDING-RIGHT: 0px\; BORDER-TOP: 0px\; PADDING-LEFT: 0px\; BACKGROUND: none transparent scroll repeat 0% 0%\; PADDING-BOTTOM: 0px\; MARGIN: 0px\; VERTICAL-ALIGN: baseline\; BORDER-LEFT: 0px\; LINE-HEIGHT: 1.8\; PADDING-TOP: 0px\; BORDER-BOTTOM: 0px">Company logo on invitation flyer tailored to your organization</SPAN></LI><LI style="BORDER-RIGHT: 0px\; PADDING-RIGHT: 0px\; BORDER-TOP: 0px\; PADDING-LEFT: 0px\; FONT-WEIGHT: normal\; FONT-SIZE: 9pt\; BACKGROUND: none transparent scroll repeat 0% 0%\; PADDING-BOTTOM: 0px\; MARGIN: 0px\; VERTICAL-ALIGN: baseline\; BORDER-LEFT: 0px\; PADDING-TOP: 0px\; BORDER-BOTTOM: 0px\; FONT-FAMILY: Verdana"><SPAN style="BORDER-RIGHT: 0px\; PADDING-RIGHT: 0px\; BORDER-TOP: 0px\; PADDING-LEFT: 0px\; BACKGROUND: none transparent scroll repeat 0% 0%\; PADDING-BOTTOM: 0px\; MARGIN: 0px\; VERTICAL-ALIGN: baseline\; BORDER-LEFT: 0px\; LINE-HEIGHT: 1.8\; PADDING-TOP: 0px\; BORDER-BOTTOM: 0px"><SPAN style="BORDER-RIGHT: 0px\; PADDING-RIGHT: 0px\; BORDER-TOP: 0px\; PADDING-LEFT: 0px\; BACKGROUND: none transparent scroll repeat 0% 0%\; PADDING-BOTTOM: 0px\; MARGIN: 0px\; VERTICAL-ALIGN: baseline\; BORDER-LEFT: 0px\; LINE-HEIGHT: 1.8\; PADDING-TOP: 0px\; BORDER-BOTTOM: 0px">Company name on all press releases</SPAN></SPAN></LI><LI style="BORDER-RIGHT: 0px\; PADDING-RIGHT: 0px\; BORDER-TOP: 0px\; PADDING-LEFT: 0px\; FONT-WEIGHT: normal\; FONT-SIZE: 9pt\; BACKGROUND: none transparent scroll repeat 0% 0%\; PADDING-BOTTOM: 0px\; MARGIN: 0px\; VERTICAL-ALIGN: baseline\; BORDER-LEFT: 0px\; PADDING-TOP: 0px\; BORDER-BOTTOM: 0px\; FONT-FAMILY: Verdana"><SPAN style="BORDER-RIGHT: 0px\; PADDING-RIGHT: 0px\; BORDER-TOP: 0px\; PADDING-LEFT: 0px\; BACKGROUND: none transparent scroll repeat 0% 0%\; PADDING-BOTTOM: 0px\; MARGIN: 0px\; VERTICAL-ALIGN: baseline\; BORDER-LEFT: 0px\; LINE-HEIGHT: 1.8\; PADDING-TOP: 0px\; BORDER-BOTTOM: 0px">Pre-event announcements at all Chamber events</SPAN></LI><LI style="BORDER-RIGHT: 0px\; PADDING-RIGHT: 0px\; BORDER-TOP: 0px\; PADDING-LEFT: 0px\; FONT-WEIGHT: normal\; FONT-SIZE: 9pt\; BACKGROUND: none transparent scroll repeat 0% 0%\; PADDING-BOTTOM: 0px\; MARGIN: 0px\; VERTICAL-ALIGN: baseline\; BORDER-LEFT: 0px\; PADDING-TOP: 0px\; BORDER-BOTTOM: 0px\; FONT-FAMILY: Verdana"><SPAN style="BORDER-RIGHT: 0px\; PADDING-RIGHT: 0px\; BORDER-TOP: 0px\; PADDING-LEFT: 0px\; BACKGROUND: none transparent scroll repeat 0% 0%\; PADDING-BOTTOM: 0px\; MARGIN: 0px\; VERTICAL-ALIGN: baseline\; BORDER-LEFT: 0px\; LINE-HEIGHT: 1.8\; PADDING-TOP: 0px\; BORDER-BOTTOM: 0px">Company name included on Chamber website announcements</SPAN></LI><LI style="BORDER-RIGHT: 0px\; PADDING-RIGHT: 0px\; BORDER-TOP: 0px\; PADDING-LEFT: 0px\; FONT-WEIGHT: normal\; FONT-SIZE: 9pt\; BACKGROUND: none transparent scroll repeat 0% 0%\; PADDING-BOTTOM: 0px\; MARGIN: 0px\; VERTICAL-ALIGN: baseline\; BORDER-LEFT: 0px\; PADDING-TOP: 0px\; BORDER-BOTTOM: 0px\; FONT-FAMILY: Verdana"><SPAN style="BORDER-RIGHT: 0px\; PADDING-RIGHT: 0px\; BORDER-TOP: 0px\; PADDING-LEFT: 0px\; BACKGROUND: none transparent scroll repeat 0% 0%\; PADDING-BOTTOM: 0px\; MARGIN: 0px\; VERTICAL-ALIGN: baseline\; BORDER-LEFT: 0px\; LINE-HEIGHT: 1.8\; PADDING-TOP: 0px\; BORDER-BOTTOM: 0px">Company name and logo included on weekly Chamber Happenings</SPAN></LI></UL><P style="BORDER-RIGHT: 0px\; PADDING-RIGHT: 0px\; BORDER-TOP: 0px\; PADDING-LEFT: 0px\; BACKGROUND: rgb(255\,255\,255)\; PADDING-BOTTOM: 0px\; MARGIN: 0px 0px 18px\; WORD-SPACING: 0px\; FONT: 13px/23px Arial\, Helvetica\, Tahoma\, san-serif\; VERTICAL-ALIGN: baseline\; TEXT-TRANSFORM: none\; BORDER-LEFT: 0px\; COLOR: rgb(0\,0\,0)\; TEXT-INDENT: 0px\; PADDING-TOP: 0px\; BORDER-BOTTOM: 0px\; WHITE-SPACE: normal\; LETTER-SPACING: normal\; orphans: auto\; widows: auto\; -webkit-text-stroke-width: 0px"><SPAN style="BORDER-RIGHT: 0px\; PADDING-RIGHT: 0px\; BORDER-TOP: 0px\; PADDING-LEFT: 0px\; BACKGROUND: none transparent scroll repeat 0% 0%\; PADDING-BOTTOM: 0px\; MARGIN: 0px\; VERTICAL-ALIGN: baseline\; BORDER-LEFT: 0px\; LINE-HEIGHT: 1.8\; PADDING-TOP: 0px\; BORDER-BOTTOM: 0px">The host of each Business Before Hours is responsible for providing:</SPAN></P><UL style="BORDER-RIGHT: 0px\; PADDING-RIGHT: 0px\; BORDER-TOP: 0px\; PADDING-LEFT: 0px\; BACKGROUND: rgb(255\,255\,255)\; PADDING-BOTTOM: 0px\; MARGIN: 0px 0px 0px 15px\; WORD-SPACING: 0px\; FONT: 13px/23px Arial\, Helvetica\, Tahoma\, san-serif\; VERTICAL-ALIGN: baseline\; TEXT-TRANSFORM: none\; BORDER-LEFT: 0px\; COLOR: rgb(0\,0\,0)\; TEXT-INDENT: 0px\; PADDING-TOP: 0px\; BORDER-BOTTOM: 0px\; WHITE-SPACE: normal\; LIST-STYLE-TYPE: disc\; LETTER-SPACING: normal\; orphans: auto\; widows: auto\; -webkit-text-stroke-width: 0px"><LI style="BORDER-RIGHT: 0px\; PADDING-RIGHT: 0px\; BORDER-TOP: 0px\; PADDING-LEFT: 0px\; FONT-WEIGHT: normal\; FONT-SIZE: 9pt\; BACKGROUND: none transparent scroll repeat 0% 0%\; PADDING-BOTTOM: 0px\; MARGIN: 0px\; VERTICAL-ALIGN: baseline\; BORDER-LEFT: 0px\; PADDING-TOP: 0px\; BORDER-BOTTOM: 0px\; FONT-FAMILY: Verdana">Location for event\, large enough to accommodate 80 attendees</LI><LI style="BORDER-RIGHT: 0px\; PADDING-RIGHT: 0px\; BORDER-TOP: 0px\; PADDING-LEFT: 0px\; FONT-WEIGHT: normal\; FONT-SIZE: 9pt\; BACKGROUND: none transparent scroll repeat 0% 0%\; PADDING-BOTTOM: 0px\; MARGIN: 0px\; VERTICAL-ALIGN: baseline\; BORDER-LEFT: 0px\; PADDING-TOP: 0px\; BORDER-BOTTOM: 0px\; FONT-FAMILY: Verdana">Continental breakfast</LI><LI style="BORDER-RIGHT: 0px\; PADDING-RIGHT: 0px\; BORDER-TOP: 0px\; PADDING-LEFT: 0px\; FONT-WEIGHT: normal\; FONT-SIZE: 9pt\; BACKGROUND: none transparent scroll repeat 0% 0%\; PADDING-BOTTOM: 0px\; MARGIN: 0px\; VERTICAL-ALIGN: baseline\; BORDER-LEFT: 0px\; PADDING-TOP: 0px\; BORDER-BOTTOM: 0px\; FONT-FAMILY: Verdana">Door prizes</LI></UL></DIV>
LOCATION:Modesto Gospel Mission 1400 Yosemite Blvd Modesto\, CA 95354
UID:e.2695.593
SEQUENCE:3
DTSTAMP:20260422T134212Z
URL:https://business.modchamber.org/events/details/business-before-hours-modesto-gospel-mission-12-04-2014-593
END:VEVENT

END:VCALENDAR
