BEGIN:VCALENDAR
VERSION:2.0
PRODID:-//ChamberMaster//Event Calendar 2.0//EN
METHOD:PUBLISH
X-PUBLISHED-TTL:P3D
REFRESH-INTERVAL:P3D
CALSCALE:GREGORIAN
BEGIN:VEVENT
DTSTART:20160114T153000Z
DTEND:20160114T163000Z
X-MICROSOFT-CDO-ALLDAYEVENT:FALSE
SUMMARY:Business Before Hours - Modesto Chamber of Commerce
DESCRIPTION:Come kick the new year off right with your very own Chamber staff! Learn about Membership\, Upcoming Events\, and meet your 2016 Board Members!
X-ALT-DESC;FMTTYPE=text/html:<P>Come kick the new year off right with your very own Chamber staff! Learn about Membership\, Upcoming Events\, and meet your 2016 Board Members! </P><P>&nbsp\;</P><P>&nbsp\;</P><P>&nbsp\;</P>
LOCATION:Modesto Chamber of Commerce 1114 J Street Modesto\, CA 95354
UID:e.2695.1436
SEQUENCE:3
DTSTAMP:20260419T174954Z
URL:https://business.modchamber.org/events/details/business-before-hours-modesto-chamber-of-commerce-01-14-2016-1436
END:VEVENT

END:VCALENDAR
