BEGIN:VCALENDAR
VERSION:2.0
PRODID:-//ChamberMaster//Event Calendar 2.0//EN
METHOD:PUBLISH
X-PUBLISHED-TTL:P3D
REFRESH-INTERVAL:P3D
CALSCALE:GREGORIAN
BEGIN:VEVENT
DTSTART:20141113T153000Z
DTEND:20141113T163000Z
X-MICROSOFT-CDO-ALLDAYEVENT:FALSE
SUMMARY:Business Before Hours - Bank of the West & I.J. Larsen Pumps\,Inc.
DESCRIPTION:Everyone is looking for a new way to promote their business.  The Chamber’s Business Before Hours and Business After Hours are the perfect way to showcase your business to over 100 members in a very short time.  When you host either of these two well attended\, monthly events you have a unique opportunity to introduce your organization to business professionals who may not be familiar with who you are and what you do\, but who may be looking for your goods or services.  Business Before and After Hours are not only great networking opportunities\, but they are a perfect way to bring business to your door.\nCall Lynda Jost at 209.577.5757 to get your date reserved.\n\nHost 75-100 Chamber colleagues in your place of business before they go to work. Let them know what you do\, sell or create. Whet their appetite with information about your business in an inviting environment. Next time they come back\, they will be your customer. Create a long lasting business relationship at 7:30 a.m. the second Thursday of the month.\n\nSponsorship Investment: $150\n\nJoin Us at the next Business Before Hours !\nSponsorship Includes:\n\nCompany logo on invitation flyer tailored to your organization\nCompany name on all press releases\nPre-event announcements at all Chamber events\nCompany name included on Chamber website announcements\nCompany name and logo included on weekly Chamber Happenings\n\nThe host of each Business Before Hours is responsible for providing:\n\nLocation for event\, large enough to accommodate 80 attendees\nContinental breakfast\nDoor prizes
X-ALT-DESC;FMTTYPE=text/html:Everyone is looking for a new way to promote their business.  The Chamber’s Business Before Hours and Business After Hours are the perfect way to showcase your business to over 100 members in a very short time.  When you host either of these two well attended\, monthly events you have a unique opportunity to introduce your organization to business professionals who may not be familiar with who you are and what you do\, but who may be looking for your goods or services.  Business Before and After Hours are not only great networking opportunities\, but they are a perfect way to bring business to your door.\nCall <a href="mailto:LJost@ModChamber.org">Lynda Jost</a> at 209.577.5757 to get your date reserved.\n\nHost 75-100 Chamber colleagues in your place of business before they go to work. Let them know what you do\, sell or create. Whet their appetite with information about your business in an inviting environment. Next time they come back\, they will be your customer. Create a long lasting business relationship at 7:30 a.m. the second Thursday of the month.\n\nSponsorship Investment: $150\n\nJoin Us at the next Business Before Hours !\nSponsorship Includes:\n<ul>\n<li>Company logo on invitation flyer tailored to your organization</li>\n<li>Company name on all press releases</li>\n<li>Pre-event announcements at all Chamber events</li>\n<li>Company name included on Chamber website announcements</li>\n<li>Company name and logo included on weekly Chamber Happenings</li>\n</ul>\nThe host of each Business Before Hours is responsible for providing:\n<ul>\n<li>Location for event\, large enough to accommodate 80 attendees</li>\n<li>Continental breakfast</li>\n<li>Door prizes</li>\n</ul>
LOCATION:Bank of the West (McHenry) 3600 McHenry Avenue Modesto\, CA 95356
UID:e.2695.592
SEQUENCE:3
DTSTAMP:20260422T165312Z
URL:https://business.modchamber.org/events/details/business-before-hours-bank-of-the-west-i-j-larsen-pumps-inc-11-13-2014-592
END:VEVENT

END:VCALENDAR
